BEGIN:VCALENDAR
VERSION:2.0
PRODID:-//Know the Word - ECPv6.2.9//NONSGML v1.0//EN
CALSCALE:GREGORIAN
METHOD:PUBLISH
X-ORIGINAL-URL:https://knowtheword.com
X-WR-CALDESC:Events for Know the Word
REFRESH-INTERVAL;VALUE=DURATION:PT1H
X-Robots-Tag:noindex
X-PUBLISHED-TTL:PT1H
BEGIN:VTIMEZONE
TZID:America/Detroit
BEGIN:DAYLIGHT
TZOFFSETFROM:-0500
TZOFFSETTO:-0400
TZNAME:EDT
DTSTART:20210314T070000
END:DAYLIGHT
BEGIN:STANDARD
TZOFFSETFROM:-0400
TZOFFSETTO:-0500
TZNAME:EST
DTSTART:20211107T060000
END:STANDARD
END:VTIMEZONE
BEGIN:VEVENT
DTSTART;TZID=America/Detroit:20210623T190000
DTEND;TZID=America/Detroit:20210623T200000
DTSTAMP:20260425T123721
CREATED:20210614T010635Z
LAST-MODIFIED:20210614T011359Z
UID:10000312-1624474800-1624478400@knowtheword.com
SUMMARY:Mid-Week Meeting
DESCRIPTION:Online only – Email us to get a personal email with a Zoom link.
URL:https://knowtheword.com/meetings-events/mid-week-meeting/2021-06-23/
LOCATION:Online (Zoom)
CATEGORIES:Mid-Week Meeting
ATTACH;FMTTYPE=image/jpeg:https://knowtheword.com/wp-content/uploads/2021/06/bible-study_unsplash-1.jpg
END:VEVENT
BEGIN:VEVENT
DTSTART;TZID=America/Detroit:20210616T190000
DTEND;TZID=America/Detroit:20210616T200000
DTSTAMP:20260425T123721
CREATED:20210614T010635Z
LAST-MODIFIED:20210614T011359Z
UID:10000311-1623870000-1623873600@knowtheword.com
SUMMARY:Mid-Week Meeting
DESCRIPTION:Online only – Email us to get a personal email with a Zoom link.
URL:https://knowtheword.com/meetings-events/mid-week-meeting/2021-06-16/
LOCATION:Online (Zoom)
CATEGORIES:Mid-Week Meeting
ATTACH;FMTTYPE=image/jpeg:https://knowtheword.com/wp-content/uploads/2021/06/bible-study_unsplash-1.jpg
END:VEVENT
END:VCALENDAR