BEGIN:VCALENDAR
VERSION:2.0
PRODID:-//Know the Word - ECPv6.2.9//NONSGML v1.0//EN
CALSCALE:GREGORIAN
METHOD:PUBLISH
X-WR-CALNAME:Know the Word
X-ORIGINAL-URL:https://knowtheword.com
X-WR-CALDESC:Events for Know the Word
REFRESH-INTERVAL;VALUE=DURATION:PT1H
X-Robots-Tag:noindex
X-PUBLISHED-TTL:PT1H
BEGIN:VTIMEZONE
TZID:America/Detroit
BEGIN:DAYLIGHT
TZOFFSETFROM:-0500
TZOFFSETTO:-0400
TZNAME:EDT
DTSTART:20240310T070000
END:DAYLIGHT
BEGIN:STANDARD
TZOFFSETFROM:-0400
TZOFFSETTO:-0500
TZNAME:EST
DTSTART:20241103T060000
END:STANDARD
END:VTIMEZONE
BEGIN:VEVENT
DTSTART;TZID=America/Detroit:20240911T190000
DTEND;TZID=America/Detroit:20240911T200000
DTSTAMP:20260424T152210
CREATED:20210614T010635Z
LAST-MODIFIED:20210614T011359Z
UID:10000480-1726081200-1726084800@knowtheword.com
SUMMARY:Mid-Week Meeting
DESCRIPTION:Online only – Email us to get a personal email with a Zoom link.
URL:https://knowtheword.com/meetings-events/mid-week-meeting/2024-09-11/
LOCATION:Online (Zoom)
CATEGORIES:Mid-Week Meeting
ATTACH;FMTTYPE=image/jpeg:https://knowtheword.com/wp-content/uploads/2021/06/bible-study_unsplash-1.jpg
END:VEVENT
BEGIN:VEVENT
DTSTART;TZID=America/Detroit:20240904T190000
DTEND;TZID=America/Detroit:20240904T200000
DTSTAMP:20260424T152210
CREATED:20210614T010635Z
LAST-MODIFIED:20210614T011359Z
UID:10000479-1725476400-1725480000@knowtheword.com
SUMMARY:Mid-Week Meeting
DESCRIPTION:Online only – Email us to get a personal email with a Zoom link.
URL:https://knowtheword.com/meetings-events/mid-week-meeting/2024-09-04/
LOCATION:Online (Zoom)
CATEGORIES:Mid-Week Meeting
ATTACH;FMTTYPE=image/jpeg:https://knowtheword.com/wp-content/uploads/2021/06/bible-study_unsplash-1.jpg
END:VEVENT
BEGIN:VEVENT
DTSTART;TZID=America/Detroit:20240828T190000
DTEND;TZID=America/Detroit:20240828T200000
DTSTAMP:20260424T152210
CREATED:20210614T010635Z
LAST-MODIFIED:20210614T011359Z
UID:10000478-1724871600-1724875200@knowtheword.com
SUMMARY:Mid-Week Meeting
DESCRIPTION:Online only – Email us to get a personal email with a Zoom link.
URL:https://knowtheword.com/meetings-events/mid-week-meeting/2024-08-28/
LOCATION:Online (Zoom)
CATEGORIES:Mid-Week Meeting
ATTACH;FMTTYPE=image/jpeg:https://knowtheword.com/wp-content/uploads/2021/06/bible-study_unsplash-1.jpg
END:VEVENT
BEGIN:VEVENT
DTSTART;TZID=America/Detroit:20240821T190000
DTEND;TZID=America/Detroit:20240821T200000
DTSTAMP:20260424T152210
CREATED:20210614T010635Z
LAST-MODIFIED:20210614T011359Z
UID:10000477-1724266800-1724270400@knowtheword.com
SUMMARY:Mid-Week Meeting
DESCRIPTION:Online only – Email us to get a personal email with a Zoom link.
URL:https://knowtheword.com/meetings-events/mid-week-meeting/2024-08-21/
LOCATION:Online (Zoom)
CATEGORIES:Mid-Week Meeting
ATTACH;FMTTYPE=image/jpeg:https://knowtheword.com/wp-content/uploads/2021/06/bible-study_unsplash-1.jpg
END:VEVENT
BEGIN:VEVENT
DTSTART;TZID=America/Detroit:20240814T190000
DTEND;TZID=America/Detroit:20240814T200000
DTSTAMP:20260424T152210
CREATED:20210614T010635Z
LAST-MODIFIED:20210614T011359Z
UID:10000476-1723662000-1723665600@knowtheword.com
SUMMARY:Mid-Week Meeting
DESCRIPTION:Online only – Email us to get a personal email with a Zoom link.
URL:https://knowtheword.com/meetings-events/mid-week-meeting/2024-08-14/
LOCATION:Online (Zoom)
CATEGORIES:Mid-Week Meeting
ATTACH;FMTTYPE=image/jpeg:https://knowtheword.com/wp-content/uploads/2021/06/bible-study_unsplash-1.jpg
END:VEVENT
BEGIN:VEVENT
DTSTART;TZID=America/Detroit:20240807T190000
DTEND;TZID=America/Detroit:20240807T200000
DTSTAMP:20260424T152210
CREATED:20210614T010635Z
LAST-MODIFIED:20210614T011359Z
UID:10000475-1723057200-1723060800@knowtheword.com
SUMMARY:Mid-Week Meeting
DESCRIPTION:Online only – Email us to get a personal email with a Zoom link.
URL:https://knowtheword.com/meetings-events/mid-week-meeting/2024-08-07/
LOCATION:Online (Zoom)
CATEGORIES:Mid-Week Meeting
ATTACH;FMTTYPE=image/jpeg:https://knowtheword.com/wp-content/uploads/2021/06/bible-study_unsplash-1.jpg
END:VEVENT
BEGIN:VEVENT
DTSTART;TZID=America/Detroit:20240731T190000
DTEND;TZID=America/Detroit:20240731T200000
DTSTAMP:20260424T152210
CREATED:20210614T010635Z
LAST-MODIFIED:20210614T011359Z
UID:10000474-1722452400-1722456000@knowtheword.com
SUMMARY:Mid-Week Meeting
DESCRIPTION:Online only – Email us to get a personal email with a Zoom link.
URL:https://knowtheword.com/meetings-events/mid-week-meeting/2024-07-31/
LOCATION:Online (Zoom)
CATEGORIES:Mid-Week Meeting
ATTACH;FMTTYPE=image/jpeg:https://knowtheword.com/wp-content/uploads/2021/06/bible-study_unsplash-1.jpg
END:VEVENT
BEGIN:VEVENT
DTSTART;TZID=America/Detroit:20240724T190000
DTEND;TZID=America/Detroit:20240724T200000
DTSTAMP:20260424T152210
CREATED:20210614T010635Z
LAST-MODIFIED:20210614T011359Z
UID:10000473-1721847600-1721851200@knowtheword.com
SUMMARY:Mid-Week Meeting
DESCRIPTION:Online only – Email us to get a personal email with a Zoom link.
URL:https://knowtheword.com/meetings-events/mid-week-meeting/2024-07-24/
LOCATION:Online (Zoom)
CATEGORIES:Mid-Week Meeting
ATTACH;FMTTYPE=image/jpeg:https://knowtheword.com/wp-content/uploads/2021/06/bible-study_unsplash-1.jpg
END:VEVENT
BEGIN:VEVENT
DTSTART;TZID=America/Detroit:20240717T190000
DTEND;TZID=America/Detroit:20240717T200000
DTSTAMP:20260424T152210
CREATED:20210614T010635Z
LAST-MODIFIED:20210614T011359Z
UID:10000472-1721242800-1721246400@knowtheword.com
SUMMARY:Mid-Week Meeting
DESCRIPTION:Online only – Email us to get a personal email with a Zoom link.
URL:https://knowtheword.com/meetings-events/mid-week-meeting/2024-07-17/
LOCATION:Online (Zoom)
CATEGORIES:Mid-Week Meeting
ATTACH;FMTTYPE=image/jpeg:https://knowtheword.com/wp-content/uploads/2021/06/bible-study_unsplash-1.jpg
END:VEVENT
BEGIN:VEVENT
DTSTART;TZID=America/Detroit:20240710T190000
DTEND;TZID=America/Detroit:20240710T200000
DTSTAMP:20260424T152210
CREATED:20210614T010635Z
LAST-MODIFIED:20210614T011359Z
UID:10000471-1720638000-1720641600@knowtheword.com
SUMMARY:Mid-Week Meeting
DESCRIPTION:Online only – Email us to get a personal email with a Zoom link.
URL:https://knowtheword.com/meetings-events/mid-week-meeting/2024-07-10/
LOCATION:Online (Zoom)
CATEGORIES:Mid-Week Meeting
ATTACH;FMTTYPE=image/jpeg:https://knowtheword.com/wp-content/uploads/2021/06/bible-study_unsplash-1.jpg
END:VEVENT
BEGIN:VEVENT
DTSTART;TZID=America/Detroit:20240703T190000
DTEND;TZID=America/Detroit:20240703T200000
DTSTAMP:20260424T152210
CREATED:20210614T010635Z
LAST-MODIFIED:20210614T011359Z
UID:10000470-1720033200-1720036800@knowtheword.com
SUMMARY:Mid-Week Meeting
DESCRIPTION:Online only – Email us to get a personal email with a Zoom link.
URL:https://knowtheword.com/meetings-events/mid-week-meeting/2024-07-03/
LOCATION:Online (Zoom)
CATEGORIES:Mid-Week Meeting
ATTACH;FMTTYPE=image/jpeg:https://knowtheword.com/wp-content/uploads/2021/06/bible-study_unsplash-1.jpg
END:VEVENT
BEGIN:VEVENT
DTSTART;TZID=America/Detroit:20240626T190000
DTEND;TZID=America/Detroit:20240626T200000
DTSTAMP:20260424T152210
CREATED:20210614T010635Z
LAST-MODIFIED:20210614T011359Z
UID:10000469-1719428400-1719432000@knowtheword.com
SUMMARY:Mid-Week Meeting
DESCRIPTION:Online only – Email us to get a personal email with a Zoom link.
URL:https://knowtheword.com/meetings-events/mid-week-meeting/2024-06-26/
LOCATION:Online (Zoom)
CATEGORIES:Mid-Week Meeting
ATTACH;FMTTYPE=image/jpeg:https://knowtheword.com/wp-content/uploads/2021/06/bible-study_unsplash-1.jpg
END:VEVENT
BEGIN:VEVENT
DTSTART;TZID=America/Detroit:20240619T190000
DTEND;TZID=America/Detroit:20240619T200000
DTSTAMP:20260424T152210
CREATED:20210614T010635Z
LAST-MODIFIED:20210614T011359Z
UID:10000468-1718823600-1718827200@knowtheword.com
SUMMARY:Mid-Week Meeting
DESCRIPTION:Online only – Email us to get a personal email with a Zoom link.
URL:https://knowtheword.com/meetings-events/mid-week-meeting/2024-06-19/
LOCATION:Online (Zoom)
CATEGORIES:Mid-Week Meeting
ATTACH;FMTTYPE=image/jpeg:https://knowtheword.com/wp-content/uploads/2021/06/bible-study_unsplash-1.jpg
END:VEVENT
BEGIN:VEVENT
DTSTART;TZID=America/Detroit:20240612T190000
DTEND;TZID=America/Detroit:20240612T200000
DTSTAMP:20260424T152210
CREATED:20210614T010635Z
LAST-MODIFIED:20210614T011359Z
UID:10000467-1718218800-1718222400@knowtheword.com
SUMMARY:Mid-Week Meeting
DESCRIPTION:Online only – Email us to get a personal email with a Zoom link.
URL:https://knowtheword.com/meetings-events/mid-week-meeting/2024-06-12/
LOCATION:Online (Zoom)
CATEGORIES:Mid-Week Meeting
ATTACH;FMTTYPE=image/jpeg:https://knowtheword.com/wp-content/uploads/2021/06/bible-study_unsplash-1.jpg
END:VEVENT
BEGIN:VEVENT
DTSTART;TZID=America/Detroit:20240605T190000
DTEND;TZID=America/Detroit:20240605T200000
DTSTAMP:20260424T152210
CREATED:20210614T010635Z
LAST-MODIFIED:20210614T011359Z
UID:10000466-1717614000-1717617600@knowtheword.com
SUMMARY:Mid-Week Meeting
DESCRIPTION:Online only – Email us to get a personal email with a Zoom link.
URL:https://knowtheword.com/meetings-events/mid-week-meeting/2024-06-05/
LOCATION:Online (Zoom)
CATEGORIES:Mid-Week Meeting
ATTACH;FMTTYPE=image/jpeg:https://knowtheword.com/wp-content/uploads/2021/06/bible-study_unsplash-1.jpg
END:VEVENT
BEGIN:VEVENT
DTSTART;TZID=America/Detroit:20240529T190000
DTEND;TZID=America/Detroit:20240529T200000
DTSTAMP:20260424T152210
CREATED:20210614T010635Z
LAST-MODIFIED:20210614T011359Z
UID:10000465-1717009200-1717012800@knowtheword.com
SUMMARY:Mid-Week Meeting
DESCRIPTION:Online only – Email us to get a personal email with a Zoom link.
URL:https://knowtheword.com/meetings-events/mid-week-meeting/2024-05-29/
LOCATION:Online (Zoom)
CATEGORIES:Mid-Week Meeting
ATTACH;FMTTYPE=image/jpeg:https://knowtheword.com/wp-content/uploads/2021/06/bible-study_unsplash-1.jpg
END:VEVENT
BEGIN:VEVENT
DTSTART;TZID=America/Detroit:20240522T190000
DTEND;TZID=America/Detroit:20240522T200000
DTSTAMP:20260424T152210
CREATED:20210614T010635Z
LAST-MODIFIED:20210614T011359Z
UID:10000464-1716404400-1716408000@knowtheword.com
SUMMARY:Mid-Week Meeting
DESCRIPTION:Online only – Email us to get a personal email with a Zoom link.
URL:https://knowtheword.com/meetings-events/mid-week-meeting/2024-05-22/
LOCATION:Online (Zoom)
CATEGORIES:Mid-Week Meeting
ATTACH;FMTTYPE=image/jpeg:https://knowtheword.com/wp-content/uploads/2021/06/bible-study_unsplash-1.jpg
END:VEVENT
BEGIN:VEVENT
DTSTART;TZID=America/Detroit:20240515T190000
DTEND;TZID=America/Detroit:20240515T200000
DTSTAMP:20260424T152210
CREATED:20210614T010635Z
LAST-MODIFIED:20210614T011359Z
UID:10000463-1715799600-1715803200@knowtheword.com
SUMMARY:Mid-Week Meeting
DESCRIPTION:Online only – Email us to get a personal email with a Zoom link.
URL:https://knowtheword.com/meetings-events/mid-week-meeting/2024-05-15/
LOCATION:Online (Zoom)
CATEGORIES:Mid-Week Meeting
ATTACH;FMTTYPE=image/jpeg:https://knowtheword.com/wp-content/uploads/2021/06/bible-study_unsplash-1.jpg
END:VEVENT
BEGIN:VEVENT
DTSTART;TZID=America/Detroit:20240508T190000
DTEND;TZID=America/Detroit:20240508T200000
DTSTAMP:20260424T152210
CREATED:20210614T010635Z
LAST-MODIFIED:20210614T011359Z
UID:10000462-1715194800-1715198400@knowtheword.com
SUMMARY:Mid-Week Meeting
DESCRIPTION:Online only – Email us to get a personal email with a Zoom link.
URL:https://knowtheword.com/meetings-events/mid-week-meeting/2024-05-08/
LOCATION:Online (Zoom)
CATEGORIES:Mid-Week Meeting
ATTACH;FMTTYPE=image/jpeg:https://knowtheword.com/wp-content/uploads/2021/06/bible-study_unsplash-1.jpg
END:VEVENT
BEGIN:VEVENT
DTSTART;TZID=America/Detroit:20240501T190000
DTEND;TZID=America/Detroit:20240501T200000
DTSTAMP:20260424T152210
CREATED:20210614T010635Z
LAST-MODIFIED:20210614T011359Z
UID:10000461-1714590000-1714593600@knowtheword.com
SUMMARY:Mid-Week Meeting
DESCRIPTION:Online only – Email us to get a personal email with a Zoom link.
URL:https://knowtheword.com/meetings-events/mid-week-meeting/2024-05-01/
LOCATION:Online (Zoom)
CATEGORIES:Mid-Week Meeting
ATTACH;FMTTYPE=image/jpeg:https://knowtheword.com/wp-content/uploads/2021/06/bible-study_unsplash-1.jpg
END:VEVENT
BEGIN:VEVENT
DTSTART;TZID=America/Detroit:20240424T190000
DTEND;TZID=America/Detroit:20240424T200000
DTSTAMP:20260424T152210
CREATED:20210614T010635Z
LAST-MODIFIED:20210614T011359Z
UID:10000460-1713985200-1713988800@knowtheword.com
SUMMARY:Mid-Week Meeting
DESCRIPTION:Online only – Email us to get a personal email with a Zoom link.
URL:https://knowtheword.com/meetings-events/mid-week-meeting/2024-04-24/
LOCATION:Online (Zoom)
CATEGORIES:Mid-Week Meeting
ATTACH;FMTTYPE=image/jpeg:https://knowtheword.com/wp-content/uploads/2021/06/bible-study_unsplash-1.jpg
END:VEVENT
BEGIN:VEVENT
DTSTART;TZID=America/Detroit:20240417T190000
DTEND;TZID=America/Detroit:20240417T200000
DTSTAMP:20260424T152210
CREATED:20210614T010635Z
LAST-MODIFIED:20210614T011359Z
UID:10000459-1713380400-1713384000@knowtheword.com
SUMMARY:Mid-Week Meeting
DESCRIPTION:Online only – Email us to get a personal email with a Zoom link.
URL:https://knowtheword.com/meetings-events/mid-week-meeting/2024-04-17/
LOCATION:Online (Zoom)
CATEGORIES:Mid-Week Meeting
ATTACH;FMTTYPE=image/jpeg:https://knowtheword.com/wp-content/uploads/2021/06/bible-study_unsplash-1.jpg
END:VEVENT
BEGIN:VEVENT
DTSTART;TZID=America/Detroit:20240410T190000
DTEND;TZID=America/Detroit:20240410T200000
DTSTAMP:20260424T152210
CREATED:20210614T010635Z
LAST-MODIFIED:20210614T011359Z
UID:10000458-1712775600-1712779200@knowtheword.com
SUMMARY:Mid-Week Meeting
DESCRIPTION:Online only – Email us to get a personal email with a Zoom link.
URL:https://knowtheword.com/meetings-events/mid-week-meeting/2024-04-10/
LOCATION:Online (Zoom)
CATEGORIES:Mid-Week Meeting
ATTACH;FMTTYPE=image/jpeg:https://knowtheword.com/wp-content/uploads/2021/06/bible-study_unsplash-1.jpg
END:VEVENT
BEGIN:VEVENT
DTSTART;TZID=America/Detroit:20240403T190000
DTEND;TZID=America/Detroit:20240403T200000
DTSTAMP:20260424T152210
CREATED:20210614T010635Z
LAST-MODIFIED:20210614T011359Z
UID:10000457-1712170800-1712174400@knowtheword.com
SUMMARY:Mid-Week Meeting
DESCRIPTION:Online only – Email us to get a personal email with a Zoom link.
URL:https://knowtheword.com/meetings-events/mid-week-meeting/2024-04-03/
LOCATION:Online (Zoom)
CATEGORIES:Mid-Week Meeting
ATTACH;FMTTYPE=image/jpeg:https://knowtheword.com/wp-content/uploads/2021/06/bible-study_unsplash-1.jpg
END:VEVENT
BEGIN:VEVENT
DTSTART;TZID=America/Detroit:20240327T190000
DTEND;TZID=America/Detroit:20240327T200000
DTSTAMP:20260424T152210
CREATED:20210614T010635Z
LAST-MODIFIED:20210614T011359Z
UID:10000456-1711566000-1711569600@knowtheword.com
SUMMARY:Mid-Week Meeting
DESCRIPTION:Online only – Email us to get a personal email with a Zoom link.
URL:https://knowtheword.com/meetings-events/mid-week-meeting/2024-03-27/
LOCATION:Online (Zoom)
CATEGORIES:Mid-Week Meeting
ATTACH;FMTTYPE=image/jpeg:https://knowtheword.com/wp-content/uploads/2021/06/bible-study_unsplash-1.jpg
END:VEVENT
BEGIN:VEVENT
DTSTART;TZID=America/Detroit:20240320T190000
DTEND;TZID=America/Detroit:20240320T200000
DTSTAMP:20260424T152210
CREATED:20210614T010635Z
LAST-MODIFIED:20210614T011359Z
UID:10000455-1710961200-1710964800@knowtheword.com
SUMMARY:Mid-Week Meeting
DESCRIPTION:Online only – Email us to get a personal email with a Zoom link.
URL:https://knowtheword.com/meetings-events/mid-week-meeting/2024-03-20/
LOCATION:Online (Zoom)
CATEGORIES:Mid-Week Meeting
ATTACH;FMTTYPE=image/jpeg:https://knowtheword.com/wp-content/uploads/2021/06/bible-study_unsplash-1.jpg
END:VEVENT
BEGIN:VEVENT
DTSTART;TZID=America/Detroit:20240313T190000
DTEND;TZID=America/Detroit:20240313T200000
DTSTAMP:20260424T152210
CREATED:20210614T010635Z
LAST-MODIFIED:20210614T011359Z
UID:10000454-1710356400-1710360000@knowtheword.com
SUMMARY:Mid-Week Meeting
DESCRIPTION:Online only – Email us to get a personal email with a Zoom link.
URL:https://knowtheword.com/meetings-events/mid-week-meeting/2024-03-13/
LOCATION:Online (Zoom)
CATEGORIES:Mid-Week Meeting
ATTACH;FMTTYPE=image/jpeg:https://knowtheword.com/wp-content/uploads/2021/06/bible-study_unsplash-1.jpg
END:VEVENT
BEGIN:VEVENT
DTSTART;TZID=America/Detroit:20240306T190000
DTEND;TZID=America/Detroit:20240306T200000
DTSTAMP:20260424T152210
CREATED:20210614T010635Z
LAST-MODIFIED:20210614T011359Z
UID:10000453-1709751600-1709755200@knowtheword.com
SUMMARY:Mid-Week Meeting
DESCRIPTION:Online only – Email us to get a personal email with a Zoom link.
URL:https://knowtheword.com/meetings-events/mid-week-meeting/2024-03-06/
LOCATION:Online (Zoom)
CATEGORIES:Mid-Week Meeting
ATTACH;FMTTYPE=image/jpeg:https://knowtheword.com/wp-content/uploads/2021/06/bible-study_unsplash-1.jpg
END:VEVENT
BEGIN:VEVENT
DTSTART;TZID=America/Detroit:20240228T190000
DTEND;TZID=America/Detroit:20240228T200000
DTSTAMP:20260424T152210
CREATED:20210614T010635Z
LAST-MODIFIED:20210614T011359Z
UID:10000452-1709146800-1709150400@knowtheword.com
SUMMARY:Mid-Week Meeting
DESCRIPTION:Online only – Email us to get a personal email with a Zoom link.
URL:https://knowtheword.com/meetings-events/mid-week-meeting/2024-02-28/
LOCATION:Online (Zoom)
CATEGORIES:Mid-Week Meeting
ATTACH;FMTTYPE=image/jpeg:https://knowtheword.com/wp-content/uploads/2021/06/bible-study_unsplash-1.jpg
END:VEVENT
BEGIN:VEVENT
DTSTART;TZID=America/Detroit:20240221T190000
DTEND;TZID=America/Detroit:20240221T200000
DTSTAMP:20260424T152210
CREATED:20210614T010635Z
LAST-MODIFIED:20210614T011359Z
UID:10000451-1708542000-1708545600@knowtheword.com
SUMMARY:Mid-Week Meeting
DESCRIPTION:Online only – Email us to get a personal email with a Zoom link.
URL:https://knowtheword.com/meetings-events/mid-week-meeting/2024-02-21/
LOCATION:Online (Zoom)
CATEGORIES:Mid-Week Meeting
ATTACH;FMTTYPE=image/jpeg:https://knowtheword.com/wp-content/uploads/2021/06/bible-study_unsplash-1.jpg
END:VEVENT
END:VCALENDAR