BEGIN:VCALENDAR
VERSION:2.0
PRODID:-//Know the Word - ECPv6.2.9//NONSGML v1.0//EN
CALSCALE:GREGORIAN
METHOD:PUBLISH
X-ORIGINAL-URL:https://knowtheword.com
X-WR-CALDESC:Events for Know the Word
REFRESH-INTERVAL;VALUE=DURATION:PT1H
X-Robots-Tag:noindex
X-PUBLISHED-TTL:PT1H
BEGIN:VTIMEZONE
TZID:America/Detroit
BEGIN:DAYLIGHT
TZOFFSETFROM:-0500
TZOFFSETTO:-0400
TZNAME:EDT
DTSTART:20230312T070000
END:DAYLIGHT
BEGIN:STANDARD
TZOFFSETFROM:-0400
TZOFFSETTO:-0500
TZNAME:EST
DTSTART:20231105T060000
END:STANDARD
END:VTIMEZONE
BEGIN:VEVENT
DTSTART;TZID=America/Detroit:20231011T190000
DTEND;TZID=America/Detroit:20231011T200000
DTSTAMP:20260424T213816
CREATED:20210614T010635Z
LAST-MODIFIED:20210614T011359Z
UID:10000432-1697050800-1697054400@knowtheword.com
SUMMARY:Mid-Week Meeting
DESCRIPTION:Online only – Email us to get a personal email with a Zoom link.
URL:https://knowtheword.com/meetings-events/mid-week-meeting/2023-10-11/
LOCATION:Online (Zoom)
CATEGORIES:Mid-Week Meeting
ATTACH;FMTTYPE=image/jpeg:https://knowtheword.com/wp-content/uploads/2021/06/bible-study_unsplash-1.jpg
END:VEVENT
BEGIN:VEVENT
DTSTART;TZID=America/Detroit:20231004T190000
DTEND;TZID=America/Detroit:20231004T200000
DTSTAMP:20260424T213816
CREATED:20210614T010635Z
LAST-MODIFIED:20210614T011359Z
UID:10000431-1696446000-1696449600@knowtheword.com
SUMMARY:Mid-Week Meeting
DESCRIPTION:Online only – Email us to get a personal email with a Zoom link.
URL:https://knowtheword.com/meetings-events/mid-week-meeting/2023-10-04/
LOCATION:Online (Zoom)
CATEGORIES:Mid-Week Meeting
ATTACH;FMTTYPE=image/jpeg:https://knowtheword.com/wp-content/uploads/2021/06/bible-study_unsplash-1.jpg
END:VEVENT
BEGIN:VEVENT
DTSTART;TZID=America/Detroit:20230927T190000
DTEND;TZID=America/Detroit:20230927T200000
DTSTAMP:20260424T213816
CREATED:20210614T010635Z
LAST-MODIFIED:20210614T011359Z
UID:10000430-1695841200-1695844800@knowtheword.com
SUMMARY:Mid-Week Meeting
DESCRIPTION:Online only – Email us to get a personal email with a Zoom link.
URL:https://knowtheword.com/meetings-events/mid-week-meeting/2023-09-27/
LOCATION:Online (Zoom)
CATEGORIES:Mid-Week Meeting
ATTACH;FMTTYPE=image/jpeg:https://knowtheword.com/wp-content/uploads/2021/06/bible-study_unsplash-1.jpg
END:VEVENT
BEGIN:VEVENT
DTSTART;TZID=America/Detroit:20230920T190000
DTEND;TZID=America/Detroit:20230920T200000
DTSTAMP:20260424T213816
CREATED:20210614T010635Z
LAST-MODIFIED:20210614T011359Z
UID:10000429-1695236400-1695240000@knowtheword.com
SUMMARY:Mid-Week Meeting
DESCRIPTION:Online only – Email us to get a personal email with a Zoom link.
URL:https://knowtheword.com/meetings-events/mid-week-meeting/2023-09-20/
LOCATION:Online (Zoom)
CATEGORIES:Mid-Week Meeting
ATTACH;FMTTYPE=image/jpeg:https://knowtheword.com/wp-content/uploads/2021/06/bible-study_unsplash-1.jpg
END:VEVENT
BEGIN:VEVENT
DTSTART;TZID=America/Detroit:20230913T190000
DTEND;TZID=America/Detroit:20230913T200000
DTSTAMP:20260424T213816
CREATED:20210614T010635Z
LAST-MODIFIED:20210614T011359Z
UID:10000428-1694631600-1694635200@knowtheword.com
SUMMARY:Mid-Week Meeting
DESCRIPTION:Online only – Email us to get a personal email with a Zoom link.
URL:https://knowtheword.com/meetings-events/mid-week-meeting/2023-09-13/
LOCATION:Online (Zoom)
CATEGORIES:Mid-Week Meeting
ATTACH;FMTTYPE=image/jpeg:https://knowtheword.com/wp-content/uploads/2021/06/bible-study_unsplash-1.jpg
END:VEVENT
BEGIN:VEVENT
DTSTART;TZID=America/Detroit:20230906T190000
DTEND;TZID=America/Detroit:20230906T200000
DTSTAMP:20260424T213816
CREATED:20210614T010635Z
LAST-MODIFIED:20210614T011359Z
UID:10000427-1694026800-1694030400@knowtheword.com
SUMMARY:Mid-Week Meeting
DESCRIPTION:Online only – Email us to get a personal email with a Zoom link.
URL:https://knowtheword.com/meetings-events/mid-week-meeting/2023-09-06/
LOCATION:Online (Zoom)
CATEGORIES:Mid-Week Meeting
ATTACH;FMTTYPE=image/jpeg:https://knowtheword.com/wp-content/uploads/2021/06/bible-study_unsplash-1.jpg
END:VEVENT
BEGIN:VEVENT
DTSTART;TZID=America/Detroit:20230830T190000
DTEND;TZID=America/Detroit:20230830T200000
DTSTAMP:20260424T213816
CREATED:20210614T010635Z
LAST-MODIFIED:20210614T011359Z
UID:10000426-1693422000-1693425600@knowtheword.com
SUMMARY:Mid-Week Meeting
DESCRIPTION:Online only – Email us to get a personal email with a Zoom link.
URL:https://knowtheword.com/meetings-events/mid-week-meeting/2023-08-30/
LOCATION:Online (Zoom)
CATEGORIES:Mid-Week Meeting
ATTACH;FMTTYPE=image/jpeg:https://knowtheword.com/wp-content/uploads/2021/06/bible-study_unsplash-1.jpg
END:VEVENT
BEGIN:VEVENT
DTSTART;TZID=America/Detroit:20230823T190000
DTEND;TZID=America/Detroit:20230823T200000
DTSTAMP:20260424T213816
CREATED:20210614T010635Z
LAST-MODIFIED:20210614T011359Z
UID:10000425-1692817200-1692820800@knowtheword.com
SUMMARY:Mid-Week Meeting
DESCRIPTION:Online only – Email us to get a personal email with a Zoom link.
URL:https://knowtheword.com/meetings-events/mid-week-meeting/2023-08-23/
LOCATION:Online (Zoom)
CATEGORIES:Mid-Week Meeting
ATTACH;FMTTYPE=image/jpeg:https://knowtheword.com/wp-content/uploads/2021/06/bible-study_unsplash-1.jpg
END:VEVENT
BEGIN:VEVENT
DTSTART;TZID=America/Detroit:20230816T190000
DTEND;TZID=America/Detroit:20230816T200000
DTSTAMP:20260424T213816
CREATED:20210614T010635Z
LAST-MODIFIED:20210614T011359Z
UID:10000424-1692212400-1692216000@knowtheword.com
SUMMARY:Mid-Week Meeting
DESCRIPTION:Online only – Email us to get a personal email with a Zoom link.
URL:https://knowtheword.com/meetings-events/mid-week-meeting/2023-08-16/
LOCATION:Online (Zoom)
CATEGORIES:Mid-Week Meeting
ATTACH;FMTTYPE=image/jpeg:https://knowtheword.com/wp-content/uploads/2021/06/bible-study_unsplash-1.jpg
END:VEVENT
BEGIN:VEVENT
DTSTART;TZID=America/Detroit:20230809T190000
DTEND;TZID=America/Detroit:20230809T200000
DTSTAMP:20260424T213816
CREATED:20210614T010635Z
LAST-MODIFIED:20210614T011359Z
UID:10000423-1691607600-1691611200@knowtheword.com
SUMMARY:Mid-Week Meeting
DESCRIPTION:Online only – Email us to get a personal email with a Zoom link.
URL:https://knowtheword.com/meetings-events/mid-week-meeting/2023-08-09/
LOCATION:Online (Zoom)
CATEGORIES:Mid-Week Meeting
ATTACH;FMTTYPE=image/jpeg:https://knowtheword.com/wp-content/uploads/2021/06/bible-study_unsplash-1.jpg
END:VEVENT
BEGIN:VEVENT
DTSTART;TZID=America/Detroit:20230802T190000
DTEND;TZID=America/Detroit:20230802T200000
DTSTAMP:20260424T213816
CREATED:20210614T010635Z
LAST-MODIFIED:20210614T011359Z
UID:10000422-1691002800-1691006400@knowtheword.com
SUMMARY:Mid-Week Meeting
DESCRIPTION:Online only – Email us to get a personal email with a Zoom link.
URL:https://knowtheword.com/meetings-events/mid-week-meeting/2023-08-02/
LOCATION:Online (Zoom)
CATEGORIES:Mid-Week Meeting
ATTACH;FMTTYPE=image/jpeg:https://knowtheword.com/wp-content/uploads/2021/06/bible-study_unsplash-1.jpg
END:VEVENT
BEGIN:VEVENT
DTSTART;TZID=America/Detroit:20230726T190000
DTEND;TZID=America/Detroit:20230726T200000
DTSTAMP:20260424T213816
CREATED:20210614T010635Z
LAST-MODIFIED:20210614T011359Z
UID:10000421-1690398000-1690401600@knowtheword.com
SUMMARY:Mid-Week Meeting
DESCRIPTION:Online only – Email us to get a personal email with a Zoom link.
URL:https://knowtheword.com/meetings-events/mid-week-meeting/2023-07-26/
LOCATION:Online (Zoom)
CATEGORIES:Mid-Week Meeting
ATTACH;FMTTYPE=image/jpeg:https://knowtheword.com/wp-content/uploads/2021/06/bible-study_unsplash-1.jpg
END:VEVENT
BEGIN:VEVENT
DTSTART;TZID=America/Detroit:20230719T190000
DTEND;TZID=America/Detroit:20230719T200000
DTSTAMP:20260424T213816
CREATED:20210614T010635Z
LAST-MODIFIED:20210614T011359Z
UID:10000420-1689793200-1689796800@knowtheword.com
SUMMARY:Mid-Week Meeting
DESCRIPTION:Online only – Email us to get a personal email with a Zoom link.
URL:https://knowtheword.com/meetings-events/mid-week-meeting/2023-07-19/
LOCATION:Online (Zoom)
CATEGORIES:Mid-Week Meeting
ATTACH;FMTTYPE=image/jpeg:https://knowtheword.com/wp-content/uploads/2021/06/bible-study_unsplash-1.jpg
END:VEVENT
BEGIN:VEVENT
DTSTART;TZID=America/Detroit:20230712T190000
DTEND;TZID=America/Detroit:20230712T200000
DTSTAMP:20260424T213816
CREATED:20210614T010635Z
LAST-MODIFIED:20210614T011359Z
UID:10000419-1689188400-1689192000@knowtheword.com
SUMMARY:Mid-Week Meeting
DESCRIPTION:Online only – Email us to get a personal email with a Zoom link.
URL:https://knowtheword.com/meetings-events/mid-week-meeting/2023-07-12/
LOCATION:Online (Zoom)
CATEGORIES:Mid-Week Meeting
ATTACH;FMTTYPE=image/jpeg:https://knowtheword.com/wp-content/uploads/2021/06/bible-study_unsplash-1.jpg
END:VEVENT
BEGIN:VEVENT
DTSTART;TZID=America/Detroit:20230705T190000
DTEND;TZID=America/Detroit:20230705T200000
DTSTAMP:20260424T213816
CREATED:20210614T010635Z
LAST-MODIFIED:20210614T011359Z
UID:10000418-1688583600-1688587200@knowtheword.com
SUMMARY:Mid-Week Meeting
DESCRIPTION:Online only – Email us to get a personal email with a Zoom link.
URL:https://knowtheword.com/meetings-events/mid-week-meeting/2023-07-05/
LOCATION:Online (Zoom)
CATEGORIES:Mid-Week Meeting
ATTACH;FMTTYPE=image/jpeg:https://knowtheword.com/wp-content/uploads/2021/06/bible-study_unsplash-1.jpg
END:VEVENT
BEGIN:VEVENT
DTSTART;TZID=America/Detroit:20230628T190000
DTEND;TZID=America/Detroit:20230628T200000
DTSTAMP:20260424T213816
CREATED:20210614T010635Z
LAST-MODIFIED:20210614T011359Z
UID:10000417-1687978800-1687982400@knowtheword.com
SUMMARY:Mid-Week Meeting
DESCRIPTION:Online only – Email us to get a personal email with a Zoom link.
URL:https://knowtheword.com/meetings-events/mid-week-meeting/2023-06-28/
LOCATION:Online (Zoom)
CATEGORIES:Mid-Week Meeting
ATTACH;FMTTYPE=image/jpeg:https://knowtheword.com/wp-content/uploads/2021/06/bible-study_unsplash-1.jpg
END:VEVENT
BEGIN:VEVENT
DTSTART;TZID=America/Detroit:20230621T190000
DTEND;TZID=America/Detroit:20230621T200000
DTSTAMP:20260424T213816
CREATED:20210614T010635Z
LAST-MODIFIED:20210614T011359Z
UID:10000416-1687374000-1687377600@knowtheword.com
SUMMARY:Mid-Week Meeting
DESCRIPTION:Online only – Email us to get a personal email with a Zoom link.
URL:https://knowtheword.com/meetings-events/mid-week-meeting/2023-06-21/
LOCATION:Online (Zoom)
CATEGORIES:Mid-Week Meeting
ATTACH;FMTTYPE=image/jpeg:https://knowtheword.com/wp-content/uploads/2021/06/bible-study_unsplash-1.jpg
END:VEVENT
BEGIN:VEVENT
DTSTART;TZID=America/Detroit:20230614T190000
DTEND;TZID=America/Detroit:20230614T200000
DTSTAMP:20260424T213816
CREATED:20210614T010635Z
LAST-MODIFIED:20210614T011359Z
UID:10000415-1686769200-1686772800@knowtheword.com
SUMMARY:Mid-Week Meeting
DESCRIPTION:Online only – Email us to get a personal email with a Zoom link.
URL:https://knowtheword.com/meetings-events/mid-week-meeting/2023-06-14/
LOCATION:Online (Zoom)
CATEGORIES:Mid-Week Meeting
ATTACH;FMTTYPE=image/jpeg:https://knowtheword.com/wp-content/uploads/2021/06/bible-study_unsplash-1.jpg
END:VEVENT
BEGIN:VEVENT
DTSTART;TZID=America/Detroit:20230607T190000
DTEND;TZID=America/Detroit:20230607T200000
DTSTAMP:20260424T213816
CREATED:20210614T010635Z
LAST-MODIFIED:20210614T011359Z
UID:10000414-1686164400-1686168000@knowtheword.com
SUMMARY:Mid-Week Meeting
DESCRIPTION:Online only – Email us to get a personal email with a Zoom link.
URL:https://knowtheword.com/meetings-events/mid-week-meeting/2023-06-07/
LOCATION:Online (Zoom)
CATEGORIES:Mid-Week Meeting
ATTACH;FMTTYPE=image/jpeg:https://knowtheword.com/wp-content/uploads/2021/06/bible-study_unsplash-1.jpg
END:VEVENT
BEGIN:VEVENT
DTSTART;TZID=America/Detroit:20230531T190000
DTEND;TZID=America/Detroit:20230531T200000
DTSTAMP:20260424T213816
CREATED:20210614T010635Z
LAST-MODIFIED:20210614T011359Z
UID:10000413-1685559600-1685563200@knowtheword.com
SUMMARY:Mid-Week Meeting
DESCRIPTION:Online only – Email us to get a personal email with a Zoom link.
URL:https://knowtheword.com/meetings-events/mid-week-meeting/2023-05-31/
LOCATION:Online (Zoom)
CATEGORIES:Mid-Week Meeting
ATTACH;FMTTYPE=image/jpeg:https://knowtheword.com/wp-content/uploads/2021/06/bible-study_unsplash-1.jpg
END:VEVENT
BEGIN:VEVENT
DTSTART;TZID=America/Detroit:20230524T190000
DTEND;TZID=America/Detroit:20230524T200000
DTSTAMP:20260424T213816
CREATED:20210614T010635Z
LAST-MODIFIED:20210614T011359Z
UID:10000412-1684954800-1684958400@knowtheword.com
SUMMARY:Mid-Week Meeting
DESCRIPTION:Online only – Email us to get a personal email with a Zoom link.
URL:https://knowtheword.com/meetings-events/mid-week-meeting/2023-05-24/
LOCATION:Online (Zoom)
CATEGORIES:Mid-Week Meeting
ATTACH;FMTTYPE=image/jpeg:https://knowtheword.com/wp-content/uploads/2021/06/bible-study_unsplash-1.jpg
END:VEVENT
BEGIN:VEVENT
DTSTART;TZID=America/Detroit:20230517T190000
DTEND;TZID=America/Detroit:20230517T200000
DTSTAMP:20260424T213816
CREATED:20210614T010635Z
LAST-MODIFIED:20210614T011359Z
UID:10000411-1684350000-1684353600@knowtheword.com
SUMMARY:Mid-Week Meeting
DESCRIPTION:Online only – Email us to get a personal email with a Zoom link.
URL:https://knowtheword.com/meetings-events/mid-week-meeting/2023-05-17/
LOCATION:Online (Zoom)
CATEGORIES:Mid-Week Meeting
ATTACH;FMTTYPE=image/jpeg:https://knowtheword.com/wp-content/uploads/2021/06/bible-study_unsplash-1.jpg
END:VEVENT
BEGIN:VEVENT
DTSTART;TZID=America/Detroit:20230510T190000
DTEND;TZID=America/Detroit:20230510T200000
DTSTAMP:20260424T213816
CREATED:20210614T010635Z
LAST-MODIFIED:20210614T011359Z
UID:10000410-1683745200-1683748800@knowtheword.com
SUMMARY:Mid-Week Meeting
DESCRIPTION:Online only – Email us to get a personal email with a Zoom link.
URL:https://knowtheword.com/meetings-events/mid-week-meeting/2023-05-10/
LOCATION:Online (Zoom)
CATEGORIES:Mid-Week Meeting
ATTACH;FMTTYPE=image/jpeg:https://knowtheword.com/wp-content/uploads/2021/06/bible-study_unsplash-1.jpg
END:VEVENT
BEGIN:VEVENT
DTSTART;TZID=America/Detroit:20230503T190000
DTEND;TZID=America/Detroit:20230503T200000
DTSTAMP:20260424T213816
CREATED:20210614T010635Z
LAST-MODIFIED:20210614T011359Z
UID:10000409-1683140400-1683144000@knowtheword.com
SUMMARY:Mid-Week Meeting
DESCRIPTION:Online only – Email us to get a personal email with a Zoom link.
URL:https://knowtheword.com/meetings-events/mid-week-meeting/2023-05-03/
LOCATION:Online (Zoom)
CATEGORIES:Mid-Week Meeting
ATTACH;FMTTYPE=image/jpeg:https://knowtheword.com/wp-content/uploads/2021/06/bible-study_unsplash-1.jpg
END:VEVENT
BEGIN:VEVENT
DTSTART;TZID=America/Detroit:20230426T190000
DTEND;TZID=America/Detroit:20230426T200000
DTSTAMP:20260424T213816
CREATED:20210614T010635Z
LAST-MODIFIED:20210614T011359Z
UID:10000408-1682535600-1682539200@knowtheword.com
SUMMARY:Mid-Week Meeting
DESCRIPTION:Online only – Email us to get a personal email with a Zoom link.
URL:https://knowtheword.com/meetings-events/mid-week-meeting/2023-04-26/
LOCATION:Online (Zoom)
CATEGORIES:Mid-Week Meeting
ATTACH;FMTTYPE=image/jpeg:https://knowtheword.com/wp-content/uploads/2021/06/bible-study_unsplash-1.jpg
END:VEVENT
BEGIN:VEVENT
DTSTART;TZID=America/Detroit:20230419T190000
DTEND;TZID=America/Detroit:20230419T200000
DTSTAMP:20260424T213816
CREATED:20210614T010635Z
LAST-MODIFIED:20210614T011359Z
UID:10000407-1681930800-1681934400@knowtheword.com
SUMMARY:Mid-Week Meeting
DESCRIPTION:Online only – Email us to get a personal email with a Zoom link.
URL:https://knowtheword.com/meetings-events/mid-week-meeting/2023-04-19/
LOCATION:Online (Zoom)
CATEGORIES:Mid-Week Meeting
ATTACH;FMTTYPE=image/jpeg:https://knowtheword.com/wp-content/uploads/2021/06/bible-study_unsplash-1.jpg
END:VEVENT
BEGIN:VEVENT
DTSTART;TZID=America/Detroit:20230412T190000
DTEND;TZID=America/Detroit:20230412T200000
DTSTAMP:20260424T213816
CREATED:20210614T010635Z
LAST-MODIFIED:20210614T011359Z
UID:10000406-1681326000-1681329600@knowtheword.com
SUMMARY:Mid-Week Meeting
DESCRIPTION:Online only – Email us to get a personal email with a Zoom link.
URL:https://knowtheword.com/meetings-events/mid-week-meeting/2023-04-12/
LOCATION:Online (Zoom)
CATEGORIES:Mid-Week Meeting
ATTACH;FMTTYPE=image/jpeg:https://knowtheword.com/wp-content/uploads/2021/06/bible-study_unsplash-1.jpg
END:VEVENT
BEGIN:VEVENT
DTSTART;TZID=America/Detroit:20230405T190000
DTEND;TZID=America/Detroit:20230405T200000
DTSTAMP:20260424T213816
CREATED:20210614T010635Z
LAST-MODIFIED:20210614T011359Z
UID:10000405-1680721200-1680724800@knowtheword.com
SUMMARY:Mid-Week Meeting
DESCRIPTION:Online only – Email us to get a personal email with a Zoom link.
URL:https://knowtheword.com/meetings-events/mid-week-meeting/2023-04-05/
LOCATION:Online (Zoom)
CATEGORIES:Mid-Week Meeting
ATTACH;FMTTYPE=image/jpeg:https://knowtheword.com/wp-content/uploads/2021/06/bible-study_unsplash-1.jpg
END:VEVENT
BEGIN:VEVENT
DTSTART;TZID=America/Detroit:20230329T190000
DTEND;TZID=America/Detroit:20230329T200000
DTSTAMP:20260424T213816
CREATED:20210614T010635Z
LAST-MODIFIED:20210614T011359Z
UID:10000404-1680116400-1680120000@knowtheword.com
SUMMARY:Mid-Week Meeting
DESCRIPTION:Online only – Email us to get a personal email with a Zoom link.
URL:https://knowtheword.com/meetings-events/mid-week-meeting/2023-03-29/
LOCATION:Online (Zoom)
CATEGORIES:Mid-Week Meeting
ATTACH;FMTTYPE=image/jpeg:https://knowtheword.com/wp-content/uploads/2021/06/bible-study_unsplash-1.jpg
END:VEVENT
BEGIN:VEVENT
DTSTART;TZID=America/Detroit:20230322T190000
DTEND;TZID=America/Detroit:20230322T200000
DTSTAMP:20260424T213816
CREATED:20210614T010635Z
LAST-MODIFIED:20210614T011359Z
UID:10000403-1679511600-1679515200@knowtheword.com
SUMMARY:Mid-Week Meeting
DESCRIPTION:Online only – Email us to get a personal email with a Zoom link.
URL:https://knowtheword.com/meetings-events/mid-week-meeting/2023-03-22/
LOCATION:Online (Zoom)
CATEGORIES:Mid-Week Meeting
ATTACH;FMTTYPE=image/jpeg:https://knowtheword.com/wp-content/uploads/2021/06/bible-study_unsplash-1.jpg
END:VEVENT
END:VCALENDAR