BEGIN:VCALENDAR
VERSION:2.0
PRODID:-//Know the Word - ECPv6.2.9//NONSGML v1.0//EN
CALSCALE:GREGORIAN
METHOD:PUBLISH
X-WR-CALNAME:Know the Word
X-ORIGINAL-URL:https://knowtheword.com
X-WR-CALDESC:Events for Know the Word
REFRESH-INTERVAL;VALUE=DURATION:PT1H
X-Robots-Tag:noindex
X-PUBLISHED-TTL:PT1H
BEGIN:VTIMEZONE
TZID:America/Detroit
BEGIN:DAYLIGHT
TZOFFSETFROM:-0500
TZOFFSETTO:-0400
TZNAME:EDT
DTSTART:20220313T070000
END:DAYLIGHT
BEGIN:STANDARD
TZOFFSETFROM:-0400
TZOFFSETTO:-0500
TZNAME:EST
DTSTART:20221106T060000
END:STANDARD
END:VTIMEZONE
BEGIN:VEVENT
DTSTART;TZID=America/Detroit:20221123T190000
DTEND;TZID=America/Detroit:20221123T200000
DTSTAMP:20260424T063451
CREATED:20210614T010635Z
LAST-MODIFIED:20210614T011359Z
UID:10000386-1669230000-1669233600@knowtheword.com
SUMMARY:Mid-Week Meeting
DESCRIPTION:Online only – Email us to get a personal email with a Zoom link.
URL:https://knowtheword.com/meetings-events/mid-week-meeting/2022-11-23/
LOCATION:Online (Zoom)
CATEGORIES:Mid-Week Meeting
ATTACH;FMTTYPE=image/jpeg:https://knowtheword.com/wp-content/uploads/2021/06/bible-study_unsplash-1.jpg
END:VEVENT
BEGIN:VEVENT
DTSTART;TZID=America/Detroit:20221116T190000
DTEND;TZID=America/Detroit:20221116T200000
DTSTAMP:20260424T063451
CREATED:20210614T010635Z
LAST-MODIFIED:20210614T011359Z
UID:10000385-1668625200-1668628800@knowtheword.com
SUMMARY:Mid-Week Meeting
DESCRIPTION:Online only – Email us to get a personal email with a Zoom link.
URL:https://knowtheword.com/meetings-events/mid-week-meeting/2022-11-16/
LOCATION:Online (Zoom)
CATEGORIES:Mid-Week Meeting
ATTACH;FMTTYPE=image/jpeg:https://knowtheword.com/wp-content/uploads/2021/06/bible-study_unsplash-1.jpg
END:VEVENT
BEGIN:VEVENT
DTSTART;TZID=America/Detroit:20221109T190000
DTEND;TZID=America/Detroit:20221109T200000
DTSTAMP:20260424T063451
CREATED:20210614T010635Z
LAST-MODIFIED:20210614T011359Z
UID:10000384-1668020400-1668024000@knowtheword.com
SUMMARY:Mid-Week Meeting
DESCRIPTION:Online only – Email us to get a personal email with a Zoom link.
URL:https://knowtheword.com/meetings-events/mid-week-meeting/2022-11-09/
LOCATION:Online (Zoom)
CATEGORIES:Mid-Week Meeting
ATTACH;FMTTYPE=image/jpeg:https://knowtheword.com/wp-content/uploads/2021/06/bible-study_unsplash-1.jpg
END:VEVENT
BEGIN:VEVENT
DTSTART;TZID=America/Detroit:20221102T190000
DTEND;TZID=America/Detroit:20221102T200000
DTSTAMP:20260424T063451
CREATED:20210614T010635Z
LAST-MODIFIED:20210614T011359Z
UID:10000383-1667415600-1667419200@knowtheword.com
SUMMARY:Mid-Week Meeting
DESCRIPTION:Online only – Email us to get a personal email with a Zoom link.
URL:https://knowtheword.com/meetings-events/mid-week-meeting/2022-11-02/
LOCATION:Online (Zoom)
CATEGORIES:Mid-Week Meeting
ATTACH;FMTTYPE=image/jpeg:https://knowtheword.com/wp-content/uploads/2021/06/bible-study_unsplash-1.jpg
END:VEVENT
BEGIN:VEVENT
DTSTART;TZID=America/Detroit:20221026T190000
DTEND;TZID=America/Detroit:20221026T200000
DTSTAMP:20260424T063451
CREATED:20210614T010635Z
LAST-MODIFIED:20210614T011359Z
UID:10000382-1666810800-1666814400@knowtheword.com
SUMMARY:Mid-Week Meeting
DESCRIPTION:Online only – Email us to get a personal email with a Zoom link.
URL:https://knowtheword.com/meetings-events/mid-week-meeting/2022-10-26/
LOCATION:Online (Zoom)
CATEGORIES:Mid-Week Meeting
ATTACH;FMTTYPE=image/jpeg:https://knowtheword.com/wp-content/uploads/2021/06/bible-study_unsplash-1.jpg
END:VEVENT
BEGIN:VEVENT
DTSTART;TZID=America/Detroit:20221019T190000
DTEND;TZID=America/Detroit:20221019T200000
DTSTAMP:20260424T063451
CREATED:20210614T010635Z
LAST-MODIFIED:20210614T011359Z
UID:10000381-1666206000-1666209600@knowtheword.com
SUMMARY:Mid-Week Meeting
DESCRIPTION:Online only – Email us to get a personal email with a Zoom link.
URL:https://knowtheword.com/meetings-events/mid-week-meeting/2022-10-19/
LOCATION:Online (Zoom)
CATEGORIES:Mid-Week Meeting
ATTACH;FMTTYPE=image/jpeg:https://knowtheword.com/wp-content/uploads/2021/06/bible-study_unsplash-1.jpg
END:VEVENT
BEGIN:VEVENT
DTSTART;TZID=America/Detroit:20221012T190000
DTEND;TZID=America/Detroit:20221012T200000
DTSTAMP:20260424T063451
CREATED:20210614T010635Z
LAST-MODIFIED:20210614T011359Z
UID:10000380-1665601200-1665604800@knowtheword.com
SUMMARY:Mid-Week Meeting
DESCRIPTION:Online only – Email us to get a personal email with a Zoom link.
URL:https://knowtheword.com/meetings-events/mid-week-meeting/2022-10-12/
LOCATION:Online (Zoom)
CATEGORIES:Mid-Week Meeting
ATTACH;FMTTYPE=image/jpeg:https://knowtheword.com/wp-content/uploads/2021/06/bible-study_unsplash-1.jpg
END:VEVENT
BEGIN:VEVENT
DTSTART;TZID=America/Detroit:20221005T190000
DTEND;TZID=America/Detroit:20221005T200000
DTSTAMP:20260424T063451
CREATED:20210614T010635Z
LAST-MODIFIED:20210614T011359Z
UID:10000379-1664996400-1665000000@knowtheword.com
SUMMARY:Mid-Week Meeting
DESCRIPTION:Online only – Email us to get a personal email with a Zoom link.
URL:https://knowtheword.com/meetings-events/mid-week-meeting/2022-10-05/
LOCATION:Online (Zoom)
CATEGORIES:Mid-Week Meeting
ATTACH;FMTTYPE=image/jpeg:https://knowtheword.com/wp-content/uploads/2021/06/bible-study_unsplash-1.jpg
END:VEVENT
BEGIN:VEVENT
DTSTART;TZID=America/Detroit:20220928T190000
DTEND;TZID=America/Detroit:20220928T200000
DTSTAMP:20260424T063451
CREATED:20210614T010635Z
LAST-MODIFIED:20210614T011359Z
UID:10000378-1664391600-1664395200@knowtheword.com
SUMMARY:Mid-Week Meeting
DESCRIPTION:Online only – Email us to get a personal email with a Zoom link.
URL:https://knowtheword.com/meetings-events/mid-week-meeting/2022-09-28/
LOCATION:Online (Zoom)
CATEGORIES:Mid-Week Meeting
ATTACH;FMTTYPE=image/jpeg:https://knowtheword.com/wp-content/uploads/2021/06/bible-study_unsplash-1.jpg
END:VEVENT
BEGIN:VEVENT
DTSTART;TZID=America/Detroit:20220921T190000
DTEND;TZID=America/Detroit:20220921T200000
DTSTAMP:20260424T063451
CREATED:20210614T010635Z
LAST-MODIFIED:20210614T011359Z
UID:10000377-1663786800-1663790400@knowtheword.com
SUMMARY:Mid-Week Meeting
DESCRIPTION:Online only – Email us to get a personal email with a Zoom link.
URL:https://knowtheword.com/meetings-events/mid-week-meeting/2022-09-21/
LOCATION:Online (Zoom)
CATEGORIES:Mid-Week Meeting
ATTACH;FMTTYPE=image/jpeg:https://knowtheword.com/wp-content/uploads/2021/06/bible-study_unsplash-1.jpg
END:VEVENT
BEGIN:VEVENT
DTSTART;TZID=America/Detroit:20220914T190000
DTEND;TZID=America/Detroit:20220914T200000
DTSTAMP:20260424T063451
CREATED:20210614T010635Z
LAST-MODIFIED:20210614T011359Z
UID:10000376-1663182000-1663185600@knowtheword.com
SUMMARY:Mid-Week Meeting
DESCRIPTION:Online only – Email us to get a personal email with a Zoom link.
URL:https://knowtheword.com/meetings-events/mid-week-meeting/2022-09-14/
LOCATION:Online (Zoom)
CATEGORIES:Mid-Week Meeting
ATTACH;FMTTYPE=image/jpeg:https://knowtheword.com/wp-content/uploads/2021/06/bible-study_unsplash-1.jpg
END:VEVENT
BEGIN:VEVENT
DTSTART;TZID=America/Detroit:20220907T190000
DTEND;TZID=America/Detroit:20220907T200000
DTSTAMP:20260424T063451
CREATED:20210614T010635Z
LAST-MODIFIED:20210614T011359Z
UID:10000375-1662577200-1662580800@knowtheword.com
SUMMARY:Mid-Week Meeting
DESCRIPTION:Online only – Email us to get a personal email with a Zoom link.
URL:https://knowtheword.com/meetings-events/mid-week-meeting/2022-09-07/
LOCATION:Online (Zoom)
CATEGORIES:Mid-Week Meeting
ATTACH;FMTTYPE=image/jpeg:https://knowtheword.com/wp-content/uploads/2021/06/bible-study_unsplash-1.jpg
END:VEVENT
BEGIN:VEVENT
DTSTART;TZID=America/Detroit:20220831T190000
DTEND;TZID=America/Detroit:20220831T200000
DTSTAMP:20260424T063451
CREATED:20210614T010635Z
LAST-MODIFIED:20210614T011359Z
UID:10000374-1661972400-1661976000@knowtheword.com
SUMMARY:Mid-Week Meeting
DESCRIPTION:Online only – Email us to get a personal email with a Zoom link.
URL:https://knowtheword.com/meetings-events/mid-week-meeting/2022-08-31/
LOCATION:Online (Zoom)
CATEGORIES:Mid-Week Meeting
ATTACH;FMTTYPE=image/jpeg:https://knowtheword.com/wp-content/uploads/2021/06/bible-study_unsplash-1.jpg
END:VEVENT
BEGIN:VEVENT
DTSTART;TZID=America/Detroit:20220824T190000
DTEND;TZID=America/Detroit:20220824T200000
DTSTAMP:20260424T063451
CREATED:20210614T010635Z
LAST-MODIFIED:20210614T011359Z
UID:10000373-1661367600-1661371200@knowtheword.com
SUMMARY:Mid-Week Meeting
DESCRIPTION:Online only – Email us to get a personal email with a Zoom link.
URL:https://knowtheword.com/meetings-events/mid-week-meeting/2022-08-24/
LOCATION:Online (Zoom)
CATEGORIES:Mid-Week Meeting
ATTACH;FMTTYPE=image/jpeg:https://knowtheword.com/wp-content/uploads/2021/06/bible-study_unsplash-1.jpg
END:VEVENT
BEGIN:VEVENT
DTSTART;TZID=America/Detroit:20220817T190000
DTEND;TZID=America/Detroit:20220817T200000
DTSTAMP:20260424T063451
CREATED:20210614T010635Z
LAST-MODIFIED:20210614T011359Z
UID:10000372-1660762800-1660766400@knowtheword.com
SUMMARY:Mid-Week Meeting
DESCRIPTION:Online only – Email us to get a personal email with a Zoom link.
URL:https://knowtheword.com/meetings-events/mid-week-meeting/2022-08-17/
LOCATION:Online (Zoom)
CATEGORIES:Mid-Week Meeting
ATTACH;FMTTYPE=image/jpeg:https://knowtheword.com/wp-content/uploads/2021/06/bible-study_unsplash-1.jpg
END:VEVENT
BEGIN:VEVENT
DTSTART;TZID=America/Detroit:20220810T190000
DTEND;TZID=America/Detroit:20220810T200000
DTSTAMP:20260424T063451
CREATED:20210614T010635Z
LAST-MODIFIED:20210614T011359Z
UID:10000371-1660158000-1660161600@knowtheword.com
SUMMARY:Mid-Week Meeting
DESCRIPTION:Online only – Email us to get a personal email with a Zoom link.
URL:https://knowtheword.com/meetings-events/mid-week-meeting/2022-08-10/
LOCATION:Online (Zoom)
CATEGORIES:Mid-Week Meeting
ATTACH;FMTTYPE=image/jpeg:https://knowtheword.com/wp-content/uploads/2021/06/bible-study_unsplash-1.jpg
END:VEVENT
BEGIN:VEVENT
DTSTART;TZID=America/Detroit:20220803T190000
DTEND;TZID=America/Detroit:20220803T200000
DTSTAMP:20260424T063451
CREATED:20210614T010635Z
LAST-MODIFIED:20210614T011359Z
UID:10000370-1659553200-1659556800@knowtheword.com
SUMMARY:Mid-Week Meeting
DESCRIPTION:Online only – Email us to get a personal email with a Zoom link.
URL:https://knowtheword.com/meetings-events/mid-week-meeting/2022-08-03/
LOCATION:Online (Zoom)
CATEGORIES:Mid-Week Meeting
ATTACH;FMTTYPE=image/jpeg:https://knowtheword.com/wp-content/uploads/2021/06/bible-study_unsplash-1.jpg
END:VEVENT
BEGIN:VEVENT
DTSTART;TZID=America/Detroit:20220727T190000
DTEND;TZID=America/Detroit:20220727T200000
DTSTAMP:20260424T063451
CREATED:20210614T010635Z
LAST-MODIFIED:20210614T011359Z
UID:10000369-1658948400-1658952000@knowtheword.com
SUMMARY:Mid-Week Meeting
DESCRIPTION:Online only – Email us to get a personal email with a Zoom link.
URL:https://knowtheword.com/meetings-events/mid-week-meeting/2022-07-27/
LOCATION:Online (Zoom)
CATEGORIES:Mid-Week Meeting
ATTACH;FMTTYPE=image/jpeg:https://knowtheword.com/wp-content/uploads/2021/06/bible-study_unsplash-1.jpg
END:VEVENT
BEGIN:VEVENT
DTSTART;TZID=America/Detroit:20220720T190000
DTEND;TZID=America/Detroit:20220720T200000
DTSTAMP:20260424T063451
CREATED:20210614T010635Z
LAST-MODIFIED:20210614T011359Z
UID:10000368-1658343600-1658347200@knowtheword.com
SUMMARY:Mid-Week Meeting
DESCRIPTION:Online only – Email us to get a personal email with a Zoom link.
URL:https://knowtheword.com/meetings-events/mid-week-meeting/2022-07-20/
LOCATION:Online (Zoom)
CATEGORIES:Mid-Week Meeting
ATTACH;FMTTYPE=image/jpeg:https://knowtheword.com/wp-content/uploads/2021/06/bible-study_unsplash-1.jpg
END:VEVENT
BEGIN:VEVENT
DTSTART;TZID=America/Detroit:20220713T190000
DTEND;TZID=America/Detroit:20220713T200000
DTSTAMP:20260424T063451
CREATED:20210614T010635Z
LAST-MODIFIED:20210614T011359Z
UID:10000367-1657738800-1657742400@knowtheword.com
SUMMARY:Mid-Week Meeting
DESCRIPTION:Online only – Email us to get a personal email with a Zoom link.
URL:https://knowtheword.com/meetings-events/mid-week-meeting/2022-07-13/
LOCATION:Online (Zoom)
CATEGORIES:Mid-Week Meeting
ATTACH;FMTTYPE=image/jpeg:https://knowtheword.com/wp-content/uploads/2021/06/bible-study_unsplash-1.jpg
END:VEVENT
BEGIN:VEVENT
DTSTART;TZID=America/Detroit:20220706T190000
DTEND;TZID=America/Detroit:20220706T200000
DTSTAMP:20260424T063451
CREATED:20210614T010635Z
LAST-MODIFIED:20210614T011359Z
UID:10000366-1657134000-1657137600@knowtheword.com
SUMMARY:Mid-Week Meeting
DESCRIPTION:Online only – Email us to get a personal email with a Zoom link.
URL:https://knowtheword.com/meetings-events/mid-week-meeting/2022-07-06/
LOCATION:Online (Zoom)
CATEGORIES:Mid-Week Meeting
ATTACH;FMTTYPE=image/jpeg:https://knowtheword.com/wp-content/uploads/2021/06/bible-study_unsplash-1.jpg
END:VEVENT
BEGIN:VEVENT
DTSTART;TZID=America/Detroit:20220629T190000
DTEND;TZID=America/Detroit:20220629T200000
DTSTAMP:20260424T063451
CREATED:20210614T010635Z
LAST-MODIFIED:20210614T011359Z
UID:10000365-1656529200-1656532800@knowtheword.com
SUMMARY:Mid-Week Meeting
DESCRIPTION:Online only – Email us to get a personal email with a Zoom link.
URL:https://knowtheword.com/meetings-events/mid-week-meeting/2022-06-29/
LOCATION:Online (Zoom)
CATEGORIES:Mid-Week Meeting
ATTACH;FMTTYPE=image/jpeg:https://knowtheword.com/wp-content/uploads/2021/06/bible-study_unsplash-1.jpg
END:VEVENT
BEGIN:VEVENT
DTSTART;TZID=America/Detroit:20220622T190000
DTEND;TZID=America/Detroit:20220622T200000
DTSTAMP:20260424T063451
CREATED:20210614T010635Z
LAST-MODIFIED:20210614T011359Z
UID:10000364-1655924400-1655928000@knowtheword.com
SUMMARY:Mid-Week Meeting
DESCRIPTION:Online only – Email us to get a personal email with a Zoom link.
URL:https://knowtheword.com/meetings-events/mid-week-meeting/2022-06-22/
LOCATION:Online (Zoom)
CATEGORIES:Mid-Week Meeting
ATTACH;FMTTYPE=image/jpeg:https://knowtheword.com/wp-content/uploads/2021/06/bible-study_unsplash-1.jpg
END:VEVENT
BEGIN:VEVENT
DTSTART;TZID=America/Detroit:20220615T190000
DTEND;TZID=America/Detroit:20220615T200000
DTSTAMP:20260424T063451
CREATED:20210614T010635Z
LAST-MODIFIED:20210614T011359Z
UID:10000363-1655319600-1655323200@knowtheword.com
SUMMARY:Mid-Week Meeting
DESCRIPTION:Online only – Email us to get a personal email with a Zoom link.
URL:https://knowtheword.com/meetings-events/mid-week-meeting/2022-06-15/
LOCATION:Online (Zoom)
CATEGORIES:Mid-Week Meeting
ATTACH;FMTTYPE=image/jpeg:https://knowtheword.com/wp-content/uploads/2021/06/bible-study_unsplash-1.jpg
END:VEVENT
BEGIN:VEVENT
DTSTART;TZID=America/Detroit:20220608T190000
DTEND;TZID=America/Detroit:20220608T200000
DTSTAMP:20260424T063451
CREATED:20210614T010635Z
LAST-MODIFIED:20210614T011359Z
UID:10000362-1654714800-1654718400@knowtheword.com
SUMMARY:Mid-Week Meeting
DESCRIPTION:Online only – Email us to get a personal email with a Zoom link.
URL:https://knowtheword.com/meetings-events/mid-week-meeting/2022-06-08/
LOCATION:Online (Zoom)
CATEGORIES:Mid-Week Meeting
ATTACH;FMTTYPE=image/jpeg:https://knowtheword.com/wp-content/uploads/2021/06/bible-study_unsplash-1.jpg
END:VEVENT
BEGIN:VEVENT
DTSTART;TZID=America/Detroit:20220601T190000
DTEND;TZID=America/Detroit:20220601T200000
DTSTAMP:20260424T063451
CREATED:20210614T010635Z
LAST-MODIFIED:20210614T011359Z
UID:10000361-1654110000-1654113600@knowtheword.com
SUMMARY:Mid-Week Meeting
DESCRIPTION:Online only – Email us to get a personal email with a Zoom link.
URL:https://knowtheword.com/meetings-events/mid-week-meeting/2022-06-01/
LOCATION:Online (Zoom)
CATEGORIES:Mid-Week Meeting
ATTACH;FMTTYPE=image/jpeg:https://knowtheword.com/wp-content/uploads/2021/06/bible-study_unsplash-1.jpg
END:VEVENT
BEGIN:VEVENT
DTSTART;TZID=America/Detroit:20220525T190000
DTEND;TZID=America/Detroit:20220525T200000
DTSTAMP:20260424T063451
CREATED:20210614T010635Z
LAST-MODIFIED:20210614T011359Z
UID:10000360-1653505200-1653508800@knowtheword.com
SUMMARY:Mid-Week Meeting
DESCRIPTION:Online only – Email us to get a personal email with a Zoom link.
URL:https://knowtheword.com/meetings-events/mid-week-meeting/2022-05-25/
LOCATION:Online (Zoom)
CATEGORIES:Mid-Week Meeting
ATTACH;FMTTYPE=image/jpeg:https://knowtheword.com/wp-content/uploads/2021/06/bible-study_unsplash-1.jpg
END:VEVENT
BEGIN:VEVENT
DTSTART;TZID=America/Detroit:20220518T190000
DTEND;TZID=America/Detroit:20220518T200000
DTSTAMP:20260424T063451
CREATED:20210614T010635Z
LAST-MODIFIED:20210614T011359Z
UID:10000359-1652900400-1652904000@knowtheword.com
SUMMARY:Mid-Week Meeting
DESCRIPTION:Online only – Email us to get a personal email with a Zoom link.
URL:https://knowtheword.com/meetings-events/mid-week-meeting/2022-05-18/
LOCATION:Online (Zoom)
CATEGORIES:Mid-Week Meeting
ATTACH;FMTTYPE=image/jpeg:https://knowtheword.com/wp-content/uploads/2021/06/bible-study_unsplash-1.jpg
END:VEVENT
BEGIN:VEVENT
DTSTART;TZID=America/Detroit:20220511T190000
DTEND;TZID=America/Detroit:20220511T200000
DTSTAMP:20260424T063451
CREATED:20210614T010635Z
LAST-MODIFIED:20210614T011359Z
UID:10000358-1652295600-1652299200@knowtheword.com
SUMMARY:Mid-Week Meeting
DESCRIPTION:Online only – Email us to get a personal email with a Zoom link.
URL:https://knowtheword.com/meetings-events/mid-week-meeting/2022-05-11/
LOCATION:Online (Zoom)
CATEGORIES:Mid-Week Meeting
ATTACH;FMTTYPE=image/jpeg:https://knowtheword.com/wp-content/uploads/2021/06/bible-study_unsplash-1.jpg
END:VEVENT
BEGIN:VEVENT
DTSTART;TZID=America/Detroit:20220504T190000
DTEND;TZID=America/Detroit:20220504T200000
DTSTAMP:20260424T063451
CREATED:20210614T010635Z
LAST-MODIFIED:20210614T011359Z
UID:10000357-1651690800-1651694400@knowtheword.com
SUMMARY:Mid-Week Meeting
DESCRIPTION:Online only – Email us to get a personal email with a Zoom link.
URL:https://knowtheword.com/meetings-events/mid-week-meeting/2022-05-04/
LOCATION:Online (Zoom)
CATEGORIES:Mid-Week Meeting
ATTACH;FMTTYPE=image/jpeg:https://knowtheword.com/wp-content/uploads/2021/06/bible-study_unsplash-1.jpg
END:VEVENT
END:VCALENDAR