BEGIN:VCALENDAR
VERSION:2.0
PRODID:-//Know the Word - ECPv6.2.9//NONSGML v1.0//EN
CALSCALE:GREGORIAN
METHOD:PUBLISH
X-WR-CALNAME:Know the Word
X-ORIGINAL-URL:https://knowtheword.com
X-WR-CALDESC:Events for Know the Word
REFRESH-INTERVAL;VALUE=DURATION:PT1H
X-Robots-Tag:noindex
X-PUBLISHED-TTL:PT1H
BEGIN:VTIMEZONE
TZID:America/Detroit
BEGIN:DAYLIGHT
TZOFFSETFROM:-0500
TZOFFSETTO:-0400
TZNAME:EDT
DTSTART:20210314T070000
END:DAYLIGHT
BEGIN:STANDARD
TZOFFSETFROM:-0400
TZOFFSETTO:-0500
TZNAME:EST
DTSTART:20211107T060000
END:STANDARD
END:VTIMEZONE
BEGIN:VEVENT
DTSTART;TZID=America/Detroit:20211226T100000
DTEND;TZID=America/Detroit:20211226T110000
DTSTAMP:20260424T123521
CREATED:20210510T192920Z
LAST-MODIFIED:20210614T014117Z
UID:10000587-1640512800-1640516400@knowtheword.com
SUMMARY:Sunday Service
DESCRIPTION:Sunday Morning Meeting – Contact us for a personal email with a video conference link (Zoom).
URL:https://knowtheword.com/meetings-events/sunday-service/2021-12-26/
LOCATION:Online (Zoom)
CATEGORIES:Sunday Service
ATTACH;FMTTYPE=image/jpeg:https://knowtheword.com/wp-content/uploads/2021/05/sunday-service-sm_canva.jpeg
END:VEVENT
BEGIN:VEVENT
DTSTART;TZID=America/Detroit:20211226T093000
DTEND;TZID=America/Detroit:20211226T100000
DTSTAMP:20260424T123521
CREATED:20210613T210112Z
LAST-MODIFIED:20210614T011622Z
UID:10000533-1640511000-1640512800@knowtheword.com
SUMMARY:Lord's Supper / Breaking of Bread
DESCRIPTION:Online only – Contact us for a personal email with a Zoom link. \n\nTo learn more about what we believe about the Lord’s Supper (click link).
URL:https://knowtheword.com/meetings-events/lords-supper-breaking-of-bread/2021-12-26/
LOCATION:Online (Zoom)
ATTACH;FMTTYPE=image/jpeg:https://knowtheword.com/wp-content/uploads/2021/06/lords-supper-sm_unsplash.jpg
END:VEVENT
BEGIN:VEVENT
DTSTART;TZID=America/Detroit:20211222T190000
DTEND;TZID=America/Detroit:20211222T200000
DTSTAMP:20260424T123521
CREATED:20210614T010635Z
LAST-MODIFIED:20210614T011359Z
UID:10000338-1640199600-1640203200@knowtheword.com
SUMMARY:Mid-Week Meeting
DESCRIPTION:Online only – Email us to get a personal email with a Zoom link.
URL:https://knowtheword.com/meetings-events/mid-week-meeting/2021-12-22/
LOCATION:Online (Zoom)
CATEGORIES:Mid-Week Meeting
ATTACH;FMTTYPE=image/jpeg:https://knowtheword.com/wp-content/uploads/2021/06/bible-study_unsplash-1.jpg
END:VEVENT
BEGIN:VEVENT
DTSTART;TZID=America/Detroit:20211219T100000
DTEND;TZID=America/Detroit:20211219T110000
DTSTAMP:20260424T123521
CREATED:20210510T192920Z
LAST-MODIFIED:20210614T014117Z
UID:10000586-1639908000-1639911600@knowtheword.com
SUMMARY:Sunday Service
DESCRIPTION:Sunday Morning Meeting – Contact us for a personal email with a video conference link (Zoom).
URL:https://knowtheword.com/meetings-events/sunday-service/2021-12-19/
LOCATION:Online (Zoom)
CATEGORIES:Sunday Service
ATTACH;FMTTYPE=image/jpeg:https://knowtheword.com/wp-content/uploads/2021/05/sunday-service-sm_canva.jpeg
END:VEVENT
BEGIN:VEVENT
DTSTART;TZID=America/Detroit:20211219T093000
DTEND;TZID=America/Detroit:20211219T100000
DTSTAMP:20260424T123521
CREATED:20210613T210112Z
LAST-MODIFIED:20210614T011622Z
UID:10000532-1639906200-1639908000@knowtheword.com
SUMMARY:Lord's Supper / Breaking of Bread
DESCRIPTION:Online only – Contact us for a personal email with a Zoom link. \n\nTo learn more about what we believe about the Lord’s Supper (click link).
URL:https://knowtheword.com/meetings-events/lords-supper-breaking-of-bread/2021-12-19/
LOCATION:Online (Zoom)
ATTACH;FMTTYPE=image/jpeg:https://knowtheword.com/wp-content/uploads/2021/06/lords-supper-sm_unsplash.jpg
END:VEVENT
BEGIN:VEVENT
DTSTART;TZID=America/Detroit:20211215T190000
DTEND;TZID=America/Detroit:20211215T200000
DTSTAMP:20260424T123521
CREATED:20210614T010635Z
LAST-MODIFIED:20210614T011359Z
UID:10000337-1639594800-1639598400@knowtheword.com
SUMMARY:Mid-Week Meeting
DESCRIPTION:Online only – Email us to get a personal email with a Zoom link.
URL:https://knowtheword.com/meetings-events/mid-week-meeting/2021-12-15/
LOCATION:Online (Zoom)
CATEGORIES:Mid-Week Meeting
ATTACH;FMTTYPE=image/jpeg:https://knowtheword.com/wp-content/uploads/2021/06/bible-study_unsplash-1.jpg
END:VEVENT
BEGIN:VEVENT
DTSTART;TZID=America/Detroit:20211212T100000
DTEND;TZID=America/Detroit:20211212T110000
DTSTAMP:20260424T123521
CREATED:20210510T192920Z
LAST-MODIFIED:20210614T014117Z
UID:10000585-1639303200-1639306800@knowtheword.com
SUMMARY:Sunday Service
DESCRIPTION:Sunday Morning Meeting – Contact us for a personal email with a video conference link (Zoom).
URL:https://knowtheword.com/meetings-events/sunday-service/2021-12-12/
LOCATION:Online (Zoom)
CATEGORIES:Sunday Service
ATTACH;FMTTYPE=image/jpeg:https://knowtheword.com/wp-content/uploads/2021/05/sunday-service-sm_canva.jpeg
END:VEVENT
BEGIN:VEVENT
DTSTART;TZID=America/Detroit:20211212T093000
DTEND;TZID=America/Detroit:20211212T100000
DTSTAMP:20260424T123521
CREATED:20210613T210112Z
LAST-MODIFIED:20210614T011622Z
UID:10000531-1639301400-1639303200@knowtheword.com
SUMMARY:Lord's Supper / Breaking of Bread
DESCRIPTION:Online only – Contact us for a personal email with a Zoom link. \n\nTo learn more about what we believe about the Lord’s Supper (click link).
URL:https://knowtheword.com/meetings-events/lords-supper-breaking-of-bread/2021-12-12/
LOCATION:Online (Zoom)
ATTACH;FMTTYPE=image/jpeg:https://knowtheword.com/wp-content/uploads/2021/06/lords-supper-sm_unsplash.jpg
END:VEVENT
BEGIN:VEVENT
DTSTART;TZID=America/Detroit:20211208T190000
DTEND;TZID=America/Detroit:20211208T200000
DTSTAMP:20260424T123521
CREATED:20210614T010635Z
LAST-MODIFIED:20210614T011359Z
UID:10000336-1638990000-1638993600@knowtheword.com
SUMMARY:Mid-Week Meeting
DESCRIPTION:Online only – Email us to get a personal email with a Zoom link.
URL:https://knowtheword.com/meetings-events/mid-week-meeting/2021-12-08/
LOCATION:Online (Zoom)
CATEGORIES:Mid-Week Meeting
ATTACH;FMTTYPE=image/jpeg:https://knowtheword.com/wp-content/uploads/2021/06/bible-study_unsplash-1.jpg
END:VEVENT
BEGIN:VEVENT
DTSTART;TZID=America/Detroit:20211205T100000
DTEND;TZID=America/Detroit:20211205T110000
DTSTAMP:20260424T123521
CREATED:20210510T192920Z
LAST-MODIFIED:20210614T014117Z
UID:10000584-1638698400-1638702000@knowtheword.com
SUMMARY:Sunday Service
DESCRIPTION:Sunday Morning Meeting – Contact us for a personal email with a video conference link (Zoom).
URL:https://knowtheword.com/meetings-events/sunday-service/2021-12-05/
LOCATION:Online (Zoom)
CATEGORIES:Sunday Service
ATTACH;FMTTYPE=image/jpeg:https://knowtheword.com/wp-content/uploads/2021/05/sunday-service-sm_canva.jpeg
END:VEVENT
BEGIN:VEVENT
DTSTART;TZID=America/Detroit:20211205T093000
DTEND;TZID=America/Detroit:20211205T100000
DTSTAMP:20260424T123521
CREATED:20210613T210112Z
LAST-MODIFIED:20210614T011622Z
UID:10000530-1638696600-1638698400@knowtheword.com
SUMMARY:Lord's Supper / Breaking of Bread
DESCRIPTION:Online only – Contact us for a personal email with a Zoom link. \n\nTo learn more about what we believe about the Lord’s Supper (click link).
URL:https://knowtheword.com/meetings-events/lords-supper-breaking-of-bread/2021-12-05/
LOCATION:Online (Zoom)
ATTACH;FMTTYPE=image/jpeg:https://knowtheword.com/wp-content/uploads/2021/06/lords-supper-sm_unsplash.jpg
END:VEVENT
BEGIN:VEVENT
DTSTART;TZID=America/Detroit:20211201T190000
DTEND;TZID=America/Detroit:20211201T200000
DTSTAMP:20260424T123521
CREATED:20210614T010635Z
LAST-MODIFIED:20210614T011359Z
UID:10000335-1638385200-1638388800@knowtheword.com
SUMMARY:Mid-Week Meeting
DESCRIPTION:Online only – Email us to get a personal email with a Zoom link.
URL:https://knowtheword.com/meetings-events/mid-week-meeting/2021-12-01/
LOCATION:Online (Zoom)
CATEGORIES:Mid-Week Meeting
ATTACH;FMTTYPE=image/jpeg:https://knowtheword.com/wp-content/uploads/2021/06/bible-study_unsplash-1.jpg
END:VEVENT
BEGIN:VEVENT
DTSTART;TZID=America/Detroit:20211128T100000
DTEND;TZID=America/Detroit:20211128T110000
DTSTAMP:20260424T123521
CREATED:20210510T192920Z
LAST-MODIFIED:20210614T014117Z
UID:10000583-1638093600-1638097200@knowtheword.com
SUMMARY:Sunday Service
DESCRIPTION:Sunday Morning Meeting – Contact us for a personal email with a video conference link (Zoom).
URL:https://knowtheword.com/meetings-events/sunday-service/2021-11-28/
LOCATION:Online (Zoom)
CATEGORIES:Sunday Service
ATTACH;FMTTYPE=image/jpeg:https://knowtheword.com/wp-content/uploads/2021/05/sunday-service-sm_canva.jpeg
END:VEVENT
BEGIN:VEVENT
DTSTART;TZID=America/Detroit:20211128T093000
DTEND;TZID=America/Detroit:20211128T100000
DTSTAMP:20260424T123521
CREATED:20210613T210112Z
LAST-MODIFIED:20210614T011622Z
UID:10000529-1638091800-1638093600@knowtheword.com
SUMMARY:Lord's Supper / Breaking of Bread
DESCRIPTION:Online only – Contact us for a personal email with a Zoom link. \n\nTo learn more about what we believe about the Lord’s Supper (click link).
URL:https://knowtheword.com/meetings-events/lords-supper-breaking-of-bread/2021-11-28/
LOCATION:Online (Zoom)
ATTACH;FMTTYPE=image/jpeg:https://knowtheword.com/wp-content/uploads/2021/06/lords-supper-sm_unsplash.jpg
END:VEVENT
BEGIN:VEVENT
DTSTART;TZID=America/Detroit:20211124T190000
DTEND;TZID=America/Detroit:20211124T200000
DTSTAMP:20260424T123521
CREATED:20210614T010635Z
LAST-MODIFIED:20210614T011359Z
UID:10000334-1637780400-1637784000@knowtheword.com
SUMMARY:Mid-Week Meeting
DESCRIPTION:Online only – Email us to get a personal email with a Zoom link.
URL:https://knowtheword.com/meetings-events/mid-week-meeting/2021-11-24/
LOCATION:Online (Zoom)
CATEGORIES:Mid-Week Meeting
ATTACH;FMTTYPE=image/jpeg:https://knowtheword.com/wp-content/uploads/2021/06/bible-study_unsplash-1.jpg
END:VEVENT
BEGIN:VEVENT
DTSTART;TZID=America/Detroit:20211121T100000
DTEND;TZID=America/Detroit:20211121T110000
DTSTAMP:20260424T123521
CREATED:20210510T192920Z
LAST-MODIFIED:20210614T014117Z
UID:10000582-1637488800-1637492400@knowtheword.com
SUMMARY:Sunday Service
DESCRIPTION:Sunday Morning Meeting – Contact us for a personal email with a video conference link (Zoom).
URL:https://knowtheword.com/meetings-events/sunday-service/2021-11-21/
LOCATION:Online (Zoom)
CATEGORIES:Sunday Service
ATTACH;FMTTYPE=image/jpeg:https://knowtheword.com/wp-content/uploads/2021/05/sunday-service-sm_canva.jpeg
END:VEVENT
BEGIN:VEVENT
DTSTART;TZID=America/Detroit:20211121T093000
DTEND;TZID=America/Detroit:20211121T100000
DTSTAMP:20260424T123521
CREATED:20210613T210112Z
LAST-MODIFIED:20210614T011622Z
UID:10000528-1637487000-1637488800@knowtheword.com
SUMMARY:Lord's Supper / Breaking of Bread
DESCRIPTION:Online only – Contact us for a personal email with a Zoom link. \n\nTo learn more about what we believe about the Lord’s Supper (click link).
URL:https://knowtheword.com/meetings-events/lords-supper-breaking-of-bread/2021-11-21/
LOCATION:Online (Zoom)
ATTACH;FMTTYPE=image/jpeg:https://knowtheword.com/wp-content/uploads/2021/06/lords-supper-sm_unsplash.jpg
END:VEVENT
BEGIN:VEVENT
DTSTART;TZID=America/Detroit:20211117T190000
DTEND;TZID=America/Detroit:20211117T200000
DTSTAMP:20260424T123521
CREATED:20210614T010635Z
LAST-MODIFIED:20210614T011359Z
UID:10000333-1637175600-1637179200@knowtheword.com
SUMMARY:Mid-Week Meeting
DESCRIPTION:Online only – Email us to get a personal email with a Zoom link.
URL:https://knowtheword.com/meetings-events/mid-week-meeting/2021-11-17/
LOCATION:Online (Zoom)
CATEGORIES:Mid-Week Meeting
ATTACH;FMTTYPE=image/jpeg:https://knowtheword.com/wp-content/uploads/2021/06/bible-study_unsplash-1.jpg
END:VEVENT
BEGIN:VEVENT
DTSTART;TZID=America/Detroit:20211114T100000
DTEND;TZID=America/Detroit:20211114T110000
DTSTAMP:20260424T123521
CREATED:20210510T192920Z
LAST-MODIFIED:20210614T014117Z
UID:10000581-1636884000-1636887600@knowtheword.com
SUMMARY:Sunday Service
DESCRIPTION:Sunday Morning Meeting – Contact us for a personal email with a video conference link (Zoom).
URL:https://knowtheword.com/meetings-events/sunday-service/2021-11-14/
LOCATION:Online (Zoom)
CATEGORIES:Sunday Service
ATTACH;FMTTYPE=image/jpeg:https://knowtheword.com/wp-content/uploads/2021/05/sunday-service-sm_canva.jpeg
END:VEVENT
BEGIN:VEVENT
DTSTART;TZID=America/Detroit:20211114T093000
DTEND;TZID=America/Detroit:20211114T100000
DTSTAMP:20260424T123521
CREATED:20210613T210112Z
LAST-MODIFIED:20210614T011622Z
UID:10000527-1636882200-1636884000@knowtheword.com
SUMMARY:Lord's Supper / Breaking of Bread
DESCRIPTION:Online only – Contact us for a personal email with a Zoom link. \n\nTo learn more about what we believe about the Lord’s Supper (click link).
URL:https://knowtheword.com/meetings-events/lords-supper-breaking-of-bread/2021-11-14/
LOCATION:Online (Zoom)
ATTACH;FMTTYPE=image/jpeg:https://knowtheword.com/wp-content/uploads/2021/06/lords-supper-sm_unsplash.jpg
END:VEVENT
BEGIN:VEVENT
DTSTART;TZID=America/Detroit:20211110T190000
DTEND;TZID=America/Detroit:20211110T200000
DTSTAMP:20260424T123521
CREATED:20210614T010635Z
LAST-MODIFIED:20210614T011359Z
UID:10000332-1636570800-1636574400@knowtheword.com
SUMMARY:Mid-Week Meeting
DESCRIPTION:Online only – Email us to get a personal email with a Zoom link.
URL:https://knowtheword.com/meetings-events/mid-week-meeting/2021-11-10/
LOCATION:Online (Zoom)
CATEGORIES:Mid-Week Meeting
ATTACH;FMTTYPE=image/jpeg:https://knowtheword.com/wp-content/uploads/2021/06/bible-study_unsplash-1.jpg
END:VEVENT
BEGIN:VEVENT
DTSTART;TZID=America/Detroit:20211107T100000
DTEND;TZID=America/Detroit:20211107T110000
DTSTAMP:20260424T123521
CREATED:20210510T192920Z
LAST-MODIFIED:20210614T014117Z
UID:10000580-1636279200-1636282800@knowtheword.com
SUMMARY:Sunday Service
DESCRIPTION:Sunday Morning Meeting – Contact us for a personal email with a video conference link (Zoom).
URL:https://knowtheword.com/meetings-events/sunday-service/2021-11-07/
LOCATION:Online (Zoom)
CATEGORIES:Sunday Service
ATTACH;FMTTYPE=image/jpeg:https://knowtheword.com/wp-content/uploads/2021/05/sunday-service-sm_canva.jpeg
END:VEVENT
BEGIN:VEVENT
DTSTART;TZID=America/Detroit:20211107T093000
DTEND;TZID=America/Detroit:20211107T100000
DTSTAMP:20260424T123521
CREATED:20210613T210112Z
LAST-MODIFIED:20210614T011622Z
UID:10000526-1636277400-1636279200@knowtheword.com
SUMMARY:Lord's Supper / Breaking of Bread
DESCRIPTION:Online only – Contact us for a personal email with a Zoom link. \n\nTo learn more about what we believe about the Lord’s Supper (click link).
URL:https://knowtheword.com/meetings-events/lords-supper-breaking-of-bread/2021-11-07/
LOCATION:Online (Zoom)
ATTACH;FMTTYPE=image/jpeg:https://knowtheword.com/wp-content/uploads/2021/06/lords-supper-sm_unsplash.jpg
END:VEVENT
BEGIN:VEVENT
DTSTART;TZID=America/Detroit:20211103T190000
DTEND;TZID=America/Detroit:20211103T200000
DTSTAMP:20260424T123521
CREATED:20210614T010635Z
LAST-MODIFIED:20210614T011359Z
UID:10000331-1635966000-1635969600@knowtheword.com
SUMMARY:Mid-Week Meeting
DESCRIPTION:Online only – Email us to get a personal email with a Zoom link.
URL:https://knowtheword.com/meetings-events/mid-week-meeting/2021-11-03/
LOCATION:Online (Zoom)
CATEGORIES:Mid-Week Meeting
ATTACH;FMTTYPE=image/jpeg:https://knowtheword.com/wp-content/uploads/2021/06/bible-study_unsplash-1.jpg
END:VEVENT
BEGIN:VEVENT
DTSTART;TZID=America/Detroit:20211031T100000
DTEND;TZID=America/Detroit:20211031T110000
DTSTAMP:20260424T123521
CREATED:20210510T192920Z
LAST-MODIFIED:20210614T014117Z
UID:10000579-1635674400-1635678000@knowtheword.com
SUMMARY:Sunday Service
DESCRIPTION:Sunday Morning Meeting – Contact us for a personal email with a video conference link (Zoom).
URL:https://knowtheword.com/meetings-events/sunday-service/2021-10-31/
LOCATION:Online (Zoom)
CATEGORIES:Sunday Service
ATTACH;FMTTYPE=image/jpeg:https://knowtheword.com/wp-content/uploads/2021/05/sunday-service-sm_canva.jpeg
END:VEVENT
BEGIN:VEVENT
DTSTART;TZID=America/Detroit:20211031T093000
DTEND;TZID=America/Detroit:20211031T100000
DTSTAMP:20260424T123521
CREATED:20210613T210112Z
LAST-MODIFIED:20210614T011622Z
UID:10000525-1635672600-1635674400@knowtheword.com
SUMMARY:Lord's Supper / Breaking of Bread
DESCRIPTION:Online only – Contact us for a personal email with a Zoom link. \n\nTo learn more about what we believe about the Lord’s Supper (click link).
URL:https://knowtheword.com/meetings-events/lords-supper-breaking-of-bread/2021-10-31/
LOCATION:Online (Zoom)
ATTACH;FMTTYPE=image/jpeg:https://knowtheword.com/wp-content/uploads/2021/06/lords-supper-sm_unsplash.jpg
END:VEVENT
BEGIN:VEVENT
DTSTART;TZID=America/Detroit:20211027T190000
DTEND;TZID=America/Detroit:20211027T200000
DTSTAMP:20260424T123521
CREATED:20210614T010635Z
LAST-MODIFIED:20210614T011359Z
UID:10000330-1635361200-1635364800@knowtheword.com
SUMMARY:Mid-Week Meeting
DESCRIPTION:Online only – Email us to get a personal email with a Zoom link.
URL:https://knowtheword.com/meetings-events/mid-week-meeting/2021-10-27/
LOCATION:Online (Zoom)
CATEGORIES:Mid-Week Meeting
ATTACH;FMTTYPE=image/jpeg:https://knowtheword.com/wp-content/uploads/2021/06/bible-study_unsplash-1.jpg
END:VEVENT
BEGIN:VEVENT
DTSTART;TZID=America/Detroit:20211024T100000
DTEND;TZID=America/Detroit:20211024T110000
DTSTAMP:20260424T123521
CREATED:20210510T192920Z
LAST-MODIFIED:20210614T014117Z
UID:10000578-1635069600-1635073200@knowtheword.com
SUMMARY:Sunday Service
DESCRIPTION:Sunday Morning Meeting – Contact us for a personal email with a video conference link (Zoom).
URL:https://knowtheword.com/meetings-events/sunday-service/2021-10-24/
LOCATION:Online (Zoom)
CATEGORIES:Sunday Service
ATTACH;FMTTYPE=image/jpeg:https://knowtheword.com/wp-content/uploads/2021/05/sunday-service-sm_canva.jpeg
END:VEVENT
BEGIN:VEVENT
DTSTART;TZID=America/Detroit:20211024T093000
DTEND;TZID=America/Detroit:20211024T100000
DTSTAMP:20260424T123521
CREATED:20210613T210112Z
LAST-MODIFIED:20210614T011622Z
UID:10000524-1635067800-1635069600@knowtheword.com
SUMMARY:Lord's Supper / Breaking of Bread
DESCRIPTION:Online only – Contact us for a personal email with a Zoom link. \n\nTo learn more about what we believe about the Lord’s Supper (click link).
URL:https://knowtheword.com/meetings-events/lords-supper-breaking-of-bread/2021-10-24/
LOCATION:Online (Zoom)
ATTACH;FMTTYPE=image/jpeg:https://knowtheword.com/wp-content/uploads/2021/06/lords-supper-sm_unsplash.jpg
END:VEVENT
BEGIN:VEVENT
DTSTART;TZID=America/Detroit:20211020T190000
DTEND;TZID=America/Detroit:20211020T200000
DTSTAMP:20260424T123521
CREATED:20210614T010635Z
LAST-MODIFIED:20210614T011359Z
UID:10000329-1634756400-1634760000@knowtheword.com
SUMMARY:Mid-Week Meeting
DESCRIPTION:Online only – Email us to get a personal email with a Zoom link.
URL:https://knowtheword.com/meetings-events/mid-week-meeting/2021-10-20/
LOCATION:Online (Zoom)
CATEGORIES:Mid-Week Meeting
ATTACH;FMTTYPE=image/jpeg:https://knowtheword.com/wp-content/uploads/2021/06/bible-study_unsplash-1.jpg
END:VEVENT
END:VCALENDAR