BEGIN:VCALENDAR
VERSION:2.0
PRODID:-//Know the Word - ECPv6.2.9//NONSGML v1.0//EN
CALSCALE:GREGORIAN
METHOD:PUBLISH
X-WR-CALNAME:Know the Word
X-ORIGINAL-URL:https://knowtheword.com
X-WR-CALDESC:Events for Know the Word
REFRESH-INTERVAL;VALUE=DURATION:PT1H
X-Robots-Tag:noindex
X-PUBLISHED-TTL:PT1H
BEGIN:VTIMEZONE
TZID:America/Detroit
BEGIN:DAYLIGHT
TZOFFSETFROM:-0500
TZOFFSETTO:-0400
TZNAME:EDT
DTSTART:20210314T070000
END:DAYLIGHT
BEGIN:STANDARD
TZOFFSETFROM:-0400
TZOFFSETTO:-0500
TZNAME:EST
DTSTART:20211107T060000
END:STANDARD
END:VTIMEZONE
BEGIN:VEVENT
DTSTART;TZID=America/Detroit:20211003T100000
DTEND;TZID=America/Detroit:20211003T110000
DTSTAMP:20260424T171243
CREATED:20210510T192920Z
LAST-MODIFIED:20210614T014117Z
UID:10000575-1633255200-1633258800@knowtheword.com
SUMMARY:Sunday Service
DESCRIPTION:Sunday Morning Meeting – Contact us for a personal email with a video conference link (Zoom).
URL:https://knowtheword.com/meetings-events/sunday-service/2021-10-03/
LOCATION:Online (Zoom)
CATEGORIES:Sunday Service
ATTACH;FMTTYPE=image/jpeg:https://knowtheword.com/wp-content/uploads/2021/05/sunday-service-sm_canva.jpeg
END:VEVENT
BEGIN:VEVENT
DTSTART;TZID=America/Detroit:20211003T093000
DTEND;TZID=America/Detroit:20211003T100000
DTSTAMP:20260424T171243
CREATED:20210613T210112Z
LAST-MODIFIED:20210614T011622Z
UID:10000521-1633253400-1633255200@knowtheword.com
SUMMARY:Lord's Supper / Breaking of Bread
DESCRIPTION:Online only – Contact us for a personal email with a Zoom link. \n\nTo learn more about what we believe about the Lord’s Supper (click link).
URL:https://knowtheword.com/meetings-events/lords-supper-breaking-of-bread/2021-10-03/
LOCATION:Online (Zoom)
ATTACH;FMTTYPE=image/jpeg:https://knowtheword.com/wp-content/uploads/2021/06/lords-supper-sm_unsplash.jpg
END:VEVENT
BEGIN:VEVENT
DTSTART;TZID=America/Detroit:20210929T190000
DTEND;TZID=America/Detroit:20210929T200000
DTSTAMP:20260424T171243
CREATED:20210614T010635Z
LAST-MODIFIED:20210614T011359Z
UID:10000326-1632942000-1632945600@knowtheword.com
SUMMARY:Mid-Week Meeting
DESCRIPTION:Online only – Email us to get a personal email with a Zoom link.
URL:https://knowtheword.com/meetings-events/mid-week-meeting/2021-09-29/
LOCATION:Online (Zoom)
CATEGORIES:Mid-Week Meeting
ATTACH;FMTTYPE=image/jpeg:https://knowtheword.com/wp-content/uploads/2021/06/bible-study_unsplash-1.jpg
END:VEVENT
BEGIN:VEVENT
DTSTART;TZID=America/Detroit:20210926T100000
DTEND;TZID=America/Detroit:20210926T110000
DTSTAMP:20260424T171243
CREATED:20210510T192920Z
LAST-MODIFIED:20210614T014117Z
UID:10000574-1632650400-1632654000@knowtheword.com
SUMMARY:Sunday Service
DESCRIPTION:Sunday Morning Meeting – Contact us for a personal email with a video conference link (Zoom).
URL:https://knowtheword.com/meetings-events/sunday-service/2021-09-26/
LOCATION:Online (Zoom)
CATEGORIES:Sunday Service
ATTACH;FMTTYPE=image/jpeg:https://knowtheword.com/wp-content/uploads/2021/05/sunday-service-sm_canva.jpeg
END:VEVENT
BEGIN:VEVENT
DTSTART;TZID=America/Detroit:20210926T093000
DTEND;TZID=America/Detroit:20210926T100000
DTSTAMP:20260424T171243
CREATED:20210613T210112Z
LAST-MODIFIED:20210614T011622Z
UID:10000520-1632648600-1632650400@knowtheword.com
SUMMARY:Lord's Supper / Breaking of Bread
DESCRIPTION:Online only – Contact us for a personal email with a Zoom link. \n\nTo learn more about what we believe about the Lord’s Supper (click link).
URL:https://knowtheword.com/meetings-events/lords-supper-breaking-of-bread/2021-09-26/
LOCATION:Online (Zoom)
ATTACH;FMTTYPE=image/jpeg:https://knowtheword.com/wp-content/uploads/2021/06/lords-supper-sm_unsplash.jpg
END:VEVENT
BEGIN:VEVENT
DTSTART;TZID=America/Detroit:20210922T190000
DTEND;TZID=America/Detroit:20210922T200000
DTSTAMP:20260424T171243
CREATED:20210614T010635Z
LAST-MODIFIED:20210614T011359Z
UID:10000325-1632337200-1632340800@knowtheword.com
SUMMARY:Mid-Week Meeting
DESCRIPTION:Online only – Email us to get a personal email with a Zoom link.
URL:https://knowtheword.com/meetings-events/mid-week-meeting/2021-09-22/
LOCATION:Online (Zoom)
CATEGORIES:Mid-Week Meeting
ATTACH;FMTTYPE=image/jpeg:https://knowtheword.com/wp-content/uploads/2021/06/bible-study_unsplash-1.jpg
END:VEVENT
BEGIN:VEVENT
DTSTART;TZID=America/Detroit:20210919T100000
DTEND;TZID=America/Detroit:20210919T110000
DTSTAMP:20260424T171243
CREATED:20210510T192920Z
LAST-MODIFIED:20210614T014117Z
UID:10000573-1632045600-1632049200@knowtheword.com
SUMMARY:Sunday Service
DESCRIPTION:Sunday Morning Meeting – Contact us for a personal email with a video conference link (Zoom).
URL:https://knowtheword.com/meetings-events/sunday-service/2021-09-19/
LOCATION:Online (Zoom)
CATEGORIES:Sunday Service
ATTACH;FMTTYPE=image/jpeg:https://knowtheword.com/wp-content/uploads/2021/05/sunday-service-sm_canva.jpeg
END:VEVENT
BEGIN:VEVENT
DTSTART;TZID=America/Detroit:20210919T093000
DTEND;TZID=America/Detroit:20210919T100000
DTSTAMP:20260424T171243
CREATED:20210613T210112Z
LAST-MODIFIED:20210614T011622Z
UID:10000519-1632043800-1632045600@knowtheword.com
SUMMARY:Lord's Supper / Breaking of Bread
DESCRIPTION:Online only – Contact us for a personal email with a Zoom link. \n\nTo learn more about what we believe about the Lord’s Supper (click link).
URL:https://knowtheword.com/meetings-events/lords-supper-breaking-of-bread/2021-09-19/
LOCATION:Online (Zoom)
ATTACH;FMTTYPE=image/jpeg:https://knowtheword.com/wp-content/uploads/2021/06/lords-supper-sm_unsplash.jpg
END:VEVENT
BEGIN:VEVENT
DTSTART;TZID=America/Detroit:20210915T190000
DTEND;TZID=America/Detroit:20210915T200000
DTSTAMP:20260424T171243
CREATED:20210614T010635Z
LAST-MODIFIED:20210614T011359Z
UID:10000324-1631732400-1631736000@knowtheword.com
SUMMARY:Mid-Week Meeting
DESCRIPTION:Online only – Email us to get a personal email with a Zoom link.
URL:https://knowtheword.com/meetings-events/mid-week-meeting/2021-09-15/
LOCATION:Online (Zoom)
CATEGORIES:Mid-Week Meeting
ATTACH;FMTTYPE=image/jpeg:https://knowtheword.com/wp-content/uploads/2021/06/bible-study_unsplash-1.jpg
END:VEVENT
BEGIN:VEVENT
DTSTART;TZID=America/Detroit:20210912T100000
DTEND;TZID=America/Detroit:20210912T110000
DTSTAMP:20260424T171243
CREATED:20210510T192920Z
LAST-MODIFIED:20210614T014117Z
UID:10000572-1631440800-1631444400@knowtheword.com
SUMMARY:Sunday Service
DESCRIPTION:Sunday Morning Meeting – Contact us for a personal email with a video conference link (Zoom).
URL:https://knowtheword.com/meetings-events/sunday-service/2021-09-12/
LOCATION:Online (Zoom)
CATEGORIES:Sunday Service
ATTACH;FMTTYPE=image/jpeg:https://knowtheword.com/wp-content/uploads/2021/05/sunday-service-sm_canva.jpeg
END:VEVENT
BEGIN:VEVENT
DTSTART;TZID=America/Detroit:20210912T093000
DTEND;TZID=America/Detroit:20210912T100000
DTSTAMP:20260424T171243
CREATED:20210613T210112Z
LAST-MODIFIED:20210614T011622Z
UID:10000518-1631439000-1631440800@knowtheword.com
SUMMARY:Lord's Supper / Breaking of Bread
DESCRIPTION:Online only – Contact us for a personal email with a Zoom link. \n\nTo learn more about what we believe about the Lord’s Supper (click link).
URL:https://knowtheword.com/meetings-events/lords-supper-breaking-of-bread/2021-09-12/
LOCATION:Online (Zoom)
ATTACH;FMTTYPE=image/jpeg:https://knowtheword.com/wp-content/uploads/2021/06/lords-supper-sm_unsplash.jpg
END:VEVENT
BEGIN:VEVENT
DTSTART;TZID=America/Detroit:20210908T190000
DTEND;TZID=America/Detroit:20210908T200000
DTSTAMP:20260424T171243
CREATED:20210614T010635Z
LAST-MODIFIED:20210614T011359Z
UID:10000323-1631127600-1631131200@knowtheword.com
SUMMARY:Mid-Week Meeting
DESCRIPTION:Online only – Email us to get a personal email with a Zoom link.
URL:https://knowtheword.com/meetings-events/mid-week-meeting/2021-09-08/
LOCATION:Online (Zoom)
CATEGORIES:Mid-Week Meeting
ATTACH;FMTTYPE=image/jpeg:https://knowtheword.com/wp-content/uploads/2021/06/bible-study_unsplash-1.jpg
END:VEVENT
BEGIN:VEVENT
DTSTART;TZID=America/Detroit:20210905T100000
DTEND;TZID=America/Detroit:20210905T110000
DTSTAMP:20260424T171243
CREATED:20210510T192920Z
LAST-MODIFIED:20210614T014117Z
UID:10000571-1630836000-1630839600@knowtheword.com
SUMMARY:Sunday Service
DESCRIPTION:Sunday Morning Meeting – Contact us for a personal email with a video conference link (Zoom).
URL:https://knowtheword.com/meetings-events/sunday-service/2021-09-05/
LOCATION:Online (Zoom)
CATEGORIES:Sunday Service
ATTACH;FMTTYPE=image/jpeg:https://knowtheword.com/wp-content/uploads/2021/05/sunday-service-sm_canva.jpeg
END:VEVENT
BEGIN:VEVENT
DTSTART;TZID=America/Detroit:20210905T093000
DTEND;TZID=America/Detroit:20210905T100000
DTSTAMP:20260424T171243
CREATED:20210613T210112Z
LAST-MODIFIED:20210614T011622Z
UID:10000517-1630834200-1630836000@knowtheword.com
SUMMARY:Lord's Supper / Breaking of Bread
DESCRIPTION:Online only – Contact us for a personal email with a Zoom link. \n\nTo learn more about what we believe about the Lord’s Supper (click link).
URL:https://knowtheword.com/meetings-events/lords-supper-breaking-of-bread/2021-09-05/
LOCATION:Online (Zoom)
ATTACH;FMTTYPE=image/jpeg:https://knowtheword.com/wp-content/uploads/2021/06/lords-supper-sm_unsplash.jpg
END:VEVENT
BEGIN:VEVENT
DTSTART;TZID=America/Detroit:20210901T190000
DTEND;TZID=America/Detroit:20210901T200000
DTSTAMP:20260424T171243
CREATED:20210614T010635Z
LAST-MODIFIED:20210614T011359Z
UID:10000322-1630522800-1630526400@knowtheword.com
SUMMARY:Mid-Week Meeting
DESCRIPTION:Online only – Email us to get a personal email with a Zoom link.
URL:https://knowtheword.com/meetings-events/mid-week-meeting/2021-09-01/
LOCATION:Online (Zoom)
CATEGORIES:Mid-Week Meeting
ATTACH;FMTTYPE=image/jpeg:https://knowtheword.com/wp-content/uploads/2021/06/bible-study_unsplash-1.jpg
END:VEVENT
BEGIN:VEVENT
DTSTART;TZID=America/Detroit:20210829T100000
DTEND;TZID=America/Detroit:20210829T110000
DTSTAMP:20260424T171243
CREATED:20210510T192920Z
LAST-MODIFIED:20210614T014117Z
UID:10000570-1630231200-1630234800@knowtheword.com
SUMMARY:Sunday Service
DESCRIPTION:Sunday Morning Meeting – Contact us for a personal email with a video conference link (Zoom).
URL:https://knowtheword.com/meetings-events/sunday-service/2021-08-29/
LOCATION:Online (Zoom)
CATEGORIES:Sunday Service
ATTACH;FMTTYPE=image/jpeg:https://knowtheword.com/wp-content/uploads/2021/05/sunday-service-sm_canva.jpeg
END:VEVENT
BEGIN:VEVENT
DTSTART;TZID=America/Detroit:20210829T093000
DTEND;TZID=America/Detroit:20210829T100000
DTSTAMP:20260424T171243
CREATED:20210613T210112Z
LAST-MODIFIED:20210614T011622Z
UID:10000516-1630229400-1630231200@knowtheword.com
SUMMARY:Lord's Supper / Breaking of Bread
DESCRIPTION:Online only – Contact us for a personal email with a Zoom link. \n\nTo learn more about what we believe about the Lord’s Supper (click link).
URL:https://knowtheword.com/meetings-events/lords-supper-breaking-of-bread/2021-08-29/
LOCATION:Online (Zoom)
ATTACH;FMTTYPE=image/jpeg:https://knowtheword.com/wp-content/uploads/2021/06/lords-supper-sm_unsplash.jpg
END:VEVENT
BEGIN:VEVENT
DTSTART;TZID=America/Detroit:20210825T190000
DTEND;TZID=America/Detroit:20210825T200000
DTSTAMP:20260424T171243
CREATED:20210614T010635Z
LAST-MODIFIED:20210614T011359Z
UID:10000321-1629918000-1629921600@knowtheword.com
SUMMARY:Mid-Week Meeting
DESCRIPTION:Online only – Email us to get a personal email with a Zoom link.
URL:https://knowtheword.com/meetings-events/mid-week-meeting/2021-08-25/
LOCATION:Online (Zoom)
CATEGORIES:Mid-Week Meeting
ATTACH;FMTTYPE=image/jpeg:https://knowtheword.com/wp-content/uploads/2021/06/bible-study_unsplash-1.jpg
END:VEVENT
BEGIN:VEVENT
DTSTART;TZID=America/Detroit:20210822T100000
DTEND;TZID=America/Detroit:20210822T110000
DTSTAMP:20260424T171243
CREATED:20210510T192920Z
LAST-MODIFIED:20210614T014117Z
UID:10000569-1629626400-1629630000@knowtheword.com
SUMMARY:Sunday Service
DESCRIPTION:Sunday Morning Meeting – Contact us for a personal email with a video conference link (Zoom).
URL:https://knowtheword.com/meetings-events/sunday-service/2021-08-22/
LOCATION:Online (Zoom)
CATEGORIES:Sunday Service
ATTACH;FMTTYPE=image/jpeg:https://knowtheword.com/wp-content/uploads/2021/05/sunday-service-sm_canva.jpeg
END:VEVENT
BEGIN:VEVENT
DTSTART;TZID=America/Detroit:20210822T093000
DTEND;TZID=America/Detroit:20210822T100000
DTSTAMP:20260424T171243
CREATED:20210613T210112Z
LAST-MODIFIED:20210614T011622Z
UID:10000515-1629624600-1629626400@knowtheword.com
SUMMARY:Lord's Supper / Breaking of Bread
DESCRIPTION:Online only – Contact us for a personal email with a Zoom link. \n\nTo learn more about what we believe about the Lord’s Supper (click link).
URL:https://knowtheword.com/meetings-events/lords-supper-breaking-of-bread/2021-08-22/
LOCATION:Online (Zoom)
ATTACH;FMTTYPE=image/jpeg:https://knowtheword.com/wp-content/uploads/2021/06/lords-supper-sm_unsplash.jpg
END:VEVENT
BEGIN:VEVENT
DTSTART;TZID=America/Detroit:20210818T190000
DTEND;TZID=America/Detroit:20210818T200000
DTSTAMP:20260424T171243
CREATED:20210614T010635Z
LAST-MODIFIED:20210614T011359Z
UID:10000320-1629313200-1629316800@knowtheword.com
SUMMARY:Mid-Week Meeting
DESCRIPTION:Online only – Email us to get a personal email with a Zoom link.
URL:https://knowtheword.com/meetings-events/mid-week-meeting/2021-08-18/
LOCATION:Online (Zoom)
CATEGORIES:Mid-Week Meeting
ATTACH;FMTTYPE=image/jpeg:https://knowtheword.com/wp-content/uploads/2021/06/bible-study_unsplash-1.jpg
END:VEVENT
BEGIN:VEVENT
DTSTART;TZID=America/Detroit:20210815T100000
DTEND;TZID=America/Detroit:20210815T110000
DTSTAMP:20260424T171243
CREATED:20210510T192920Z
LAST-MODIFIED:20210614T014117Z
UID:10000568-1629021600-1629025200@knowtheword.com
SUMMARY:Sunday Service
DESCRIPTION:Sunday Morning Meeting – Contact us for a personal email with a video conference link (Zoom).
URL:https://knowtheword.com/meetings-events/sunday-service/2021-08-15/
LOCATION:Online (Zoom)
CATEGORIES:Sunday Service
ATTACH;FMTTYPE=image/jpeg:https://knowtheword.com/wp-content/uploads/2021/05/sunday-service-sm_canva.jpeg
END:VEVENT
BEGIN:VEVENT
DTSTART;TZID=America/Detroit:20210815T093000
DTEND;TZID=America/Detroit:20210815T100000
DTSTAMP:20260424T171243
CREATED:20210613T210112Z
LAST-MODIFIED:20210614T011622Z
UID:10000514-1629019800-1629021600@knowtheword.com
SUMMARY:Lord's Supper / Breaking of Bread
DESCRIPTION:Online only – Contact us for a personal email with a Zoom link. \n\nTo learn more about what we believe about the Lord’s Supper (click link).
URL:https://knowtheword.com/meetings-events/lords-supper-breaking-of-bread/2021-08-15/
LOCATION:Online (Zoom)
ATTACH;FMTTYPE=image/jpeg:https://knowtheword.com/wp-content/uploads/2021/06/lords-supper-sm_unsplash.jpg
END:VEVENT
BEGIN:VEVENT
DTSTART;TZID=America/Detroit:20210811T190000
DTEND;TZID=America/Detroit:20210811T200000
DTSTAMP:20260424T171243
CREATED:20210614T010635Z
LAST-MODIFIED:20210614T011359Z
UID:10000319-1628708400-1628712000@knowtheword.com
SUMMARY:Mid-Week Meeting
DESCRIPTION:Online only – Email us to get a personal email with a Zoom link.
URL:https://knowtheword.com/meetings-events/mid-week-meeting/2021-08-11/
LOCATION:Online (Zoom)
CATEGORIES:Mid-Week Meeting
ATTACH;FMTTYPE=image/jpeg:https://knowtheword.com/wp-content/uploads/2021/06/bible-study_unsplash-1.jpg
END:VEVENT
BEGIN:VEVENT
DTSTART;TZID=America/Detroit:20210808T100000
DTEND;TZID=America/Detroit:20210808T110000
DTSTAMP:20260424T171243
CREATED:20210510T192920Z
LAST-MODIFIED:20210614T014117Z
UID:10000567-1628416800-1628420400@knowtheword.com
SUMMARY:Sunday Service
DESCRIPTION:Sunday Morning Meeting – Contact us for a personal email with a video conference link (Zoom).
URL:https://knowtheword.com/meetings-events/sunday-service/2021-08-08/
LOCATION:Online (Zoom)
CATEGORIES:Sunday Service
ATTACH;FMTTYPE=image/jpeg:https://knowtheword.com/wp-content/uploads/2021/05/sunday-service-sm_canva.jpeg
END:VEVENT
BEGIN:VEVENT
DTSTART;TZID=America/Detroit:20210808T093000
DTEND;TZID=America/Detroit:20210808T100000
DTSTAMP:20260424T171243
CREATED:20210613T210112Z
LAST-MODIFIED:20210614T011622Z
UID:10000513-1628415000-1628416800@knowtheword.com
SUMMARY:Lord's Supper / Breaking of Bread
DESCRIPTION:Online only – Contact us for a personal email with a Zoom link. \n\nTo learn more about what we believe about the Lord’s Supper (click link).
URL:https://knowtheword.com/meetings-events/lords-supper-breaking-of-bread/2021-08-08/
LOCATION:Online (Zoom)
ATTACH;FMTTYPE=image/jpeg:https://knowtheword.com/wp-content/uploads/2021/06/lords-supper-sm_unsplash.jpg
END:VEVENT
BEGIN:VEVENT
DTSTART;TZID=America/Detroit:20210804T190000
DTEND;TZID=America/Detroit:20210804T200000
DTSTAMP:20260424T171243
CREATED:20210614T010635Z
LAST-MODIFIED:20210614T011359Z
UID:10000318-1628103600-1628107200@knowtheword.com
SUMMARY:Mid-Week Meeting
DESCRIPTION:Online only – Email us to get a personal email with a Zoom link.
URL:https://knowtheword.com/meetings-events/mid-week-meeting/2021-08-04/
LOCATION:Online (Zoom)
CATEGORIES:Mid-Week Meeting
ATTACH;FMTTYPE=image/jpeg:https://knowtheword.com/wp-content/uploads/2021/06/bible-study_unsplash-1.jpg
END:VEVENT
BEGIN:VEVENT
DTSTART;TZID=America/Detroit:20210801T100000
DTEND;TZID=America/Detroit:20210801T110000
DTSTAMP:20260424T171243
CREATED:20210510T192920Z
LAST-MODIFIED:20210614T014117Z
UID:10000566-1627812000-1627815600@knowtheword.com
SUMMARY:Sunday Service
DESCRIPTION:Sunday Morning Meeting – Contact us for a personal email with a video conference link (Zoom).
URL:https://knowtheword.com/meetings-events/sunday-service/2021-08-01/
LOCATION:Online (Zoom)
CATEGORIES:Sunday Service
ATTACH;FMTTYPE=image/jpeg:https://knowtheword.com/wp-content/uploads/2021/05/sunday-service-sm_canva.jpeg
END:VEVENT
BEGIN:VEVENT
DTSTART;TZID=America/Detroit:20210801T093000
DTEND;TZID=America/Detroit:20210801T100000
DTSTAMP:20260424T171243
CREATED:20210613T210112Z
LAST-MODIFIED:20210614T011622Z
UID:10000512-1627810200-1627812000@knowtheword.com
SUMMARY:Lord's Supper / Breaking of Bread
DESCRIPTION:Online only – Contact us for a personal email with a Zoom link. \n\nTo learn more about what we believe about the Lord’s Supper (click link).
URL:https://knowtheword.com/meetings-events/lords-supper-breaking-of-bread/2021-08-01/
LOCATION:Online (Zoom)
ATTACH;FMTTYPE=image/jpeg:https://knowtheword.com/wp-content/uploads/2021/06/lords-supper-sm_unsplash.jpg
END:VEVENT
BEGIN:VEVENT
DTSTART;TZID=America/Detroit:20210728T190000
DTEND;TZID=America/Detroit:20210728T200000
DTSTAMP:20260424T171243
CREATED:20210614T010635Z
LAST-MODIFIED:20210614T011359Z
UID:10000317-1627498800-1627502400@knowtheword.com
SUMMARY:Mid-Week Meeting
DESCRIPTION:Online only – Email us to get a personal email with a Zoom link.
URL:https://knowtheword.com/meetings-events/mid-week-meeting/2021-07-28/
LOCATION:Online (Zoom)
CATEGORIES:Mid-Week Meeting
ATTACH;FMTTYPE=image/jpeg:https://knowtheword.com/wp-content/uploads/2021/06/bible-study_unsplash-1.jpg
END:VEVENT
END:VCALENDAR